BEGIN:VCALENDAR
VERSION:2.0
PRODID:test.reiseregion-flaeming.de
BEGIN:VEVENT
UID:69e4e497e97fb
DTSTART:20260815T070000Z
SEQUENCE:0
TRANSP:OPAQUE
DTEND:20260815T170000Z
URL:http://test.reiseregion-flaeming.de/veranstaltung/lausitzer-seenland/4-
 beach-box-internationales-frisbee-tournier-am-boxberger-ufer-des-baerwalde
 -see
LOCATION:Badestrand Bärwalder See Ufer Boxberg OL\, 02943 Boxberg/O.L. (La
 usitzer Seenland)
X-APPLE-STRUCTURED-LOCATION;VALUE=URI;X-ADDRESS="Badestrand Bärwalder See 
 Ufer Boxberg OL, 02943 Boxberg/O.L. (Lausitzer Seenland)";X-APPLE-RADIUS=4
 9;X-TITLE=Badestrand Bärwalder See Ufer Boxberg OL:geo:14.580891,51.40232
 4
GEO:14.580891;51.402324
SUMMARY:4. Beach Box - Internationales Frisbee-Tournier am Boxberger Ufer d
 es Bärwalde See
CLASS:PUBLIC
DESCRIPTION:Bereits zum 4. Mal findet das Internationale BeachBox Ultimate 
 in Boxberg/Oberlausitz am Bärwalder See statt - wieder mit Euch und mit a
 llen\, die es letztes Jahr verpasst haben. Freut Euch auf:\n\n  * Bis zu 2
 4 Teams \n  * Real Mixed\n  * Camping vor Ort auf dem Campingplatz \"Stern
 encamp am Bärwalder See\" \n  * Party am Strand \n  * Gesundes Abendessen
  am Samstag durch einen lokalen Caterer\n\n\n\nAlle weiteren Info´s finde
 t Ihr auf unserer Homepage.\n\n Wir freuen uns auf euch.\n\nKontakt:\n\nDr
 ehst n  Deckel e.V.\nMarc Koschemann\nBautzner Straße 4\n01099 Dresden\nT
 elefon: +49 162 3487165\nEmail: turnier@beachbox-ultimate.de\nWebseite: ht
 tps://beachbox-ultimate.de/\n\nWeitere Informationen zur Veranstaltung: ht
 tp://test.reiseregion-flaeming.de/veranstaltung/lausitzer-seenland/4-beach
 -box-internationales-frisbee-tournier-am-boxberger-ufer-des-baerwalde-see
CATEGORIES:Sport
DTSTAMP:20260419T142008Z
END:VEVENT
BEGIN:VEVENT
UID:69e4e4985f206
DTSTART:20260816T070000Z
SEQUENCE:0
TRANSP:OPAQUE
DTEND:20260816T140000Z
URL:http://test.reiseregion-flaeming.de/veranstaltung/lausitzer-seenland/4-
 beach-box-internationales-frisbee-tournier-am-boxberger-ufer-des-baerwalde
 -see
LOCATION:Badestrand Bärwalder See Ufer Boxberg OL\, 02943 Boxberg/O.L. (La
 usitzer Seenland)
X-APPLE-STRUCTURED-LOCATION;VALUE=URI;X-ADDRESS="Badestrand Bärwalder See 
 Ufer Boxberg OL, 02943 Boxberg/O.L. (Lausitzer Seenland)";X-APPLE-RADIUS=4
 9;X-TITLE=Badestrand Bärwalder See Ufer Boxberg OL:geo:14.580891,51.40232
 4
GEO:14.580891;51.402324
SUMMARY:4. Beach Box - Internationales Frisbee-Tournier am Boxberger Ufer d
 es Bärwalde See
CLASS:PUBLIC
DESCRIPTION:Bereits zum 4. Mal findet das Internationale BeachBox Ultimate 
 in Boxberg/Oberlausitz am Bärwalder See statt - wieder mit Euch und mit a
 llen\, die es letztes Jahr verpasst haben. Freut Euch auf:\n\n  * Bis zu 2
 4 Teams \n  * Real Mixed\n  * Camping vor Ort auf dem Campingplatz \"Stern
 encamp am Bärwalder See\" \n  * Party am Strand \n  * Gesundes Abendessen
  am Samstag durch einen lokalen Caterer\n\n\n\nAlle weiteren Info´s finde
 t Ihr auf unserer Homepage.\n\n Wir freuen uns auf euch.\n\nKontakt:\n\nDr
 ehst n  Deckel e.V.\nMarc Koschemann\nBautzner Straße 4\n01099 Dresden\nT
 elefon: +49 162 3487165\nEmail: turnier@beachbox-ultimate.de\nWebseite: ht
 tps://beachbox-ultimate.de/\n\nWeitere Informationen zur Veranstaltung: ht
 tp://test.reiseregion-flaeming.de/veranstaltung/lausitzer-seenland/4-beach
 -box-internationales-frisbee-tournier-am-boxberger-ufer-des-baerwalde-see
CATEGORIES:Sport
DTSTAMP:20260419T142008Z
END:VEVENT
END:VCALENDAR