BEGIN:VCALENDAR
VERSION:2.0
PRODID:test.reiseregion-flaeming.de
BEGIN:VEVENT
UID:69e4d5df2095c
DTSTART:20260529T183000Z
SEQUENCE:0
TRANSP:OPAQUE
DTEND:20260529T213000Z
URL:http://test.reiseregion-flaeming.de/veranstaltung/lausitzer-seenland/ra
 ngertour-ziegenmelkerwanderung
LOCATION:Friedhof Staakow\, Staakower Straße 19\, 03172 Schenkendöbern
X-APPLE-STRUCTURED-LOCATION;VALUE=URI;X-ADDRESS="Friedhof Staakow, Staakowe
 r Straße 19, 03172 Schenkendöbern";X-APPLE-RADIUS=49;X-TITLE=Friedhof St
 aakow:geo:14.411511,51.985155
GEO:14.411511;51.985155
SUMMARY:RangerTour: Ziegenmelkerwanderung
CLASS:PUBLIC
DESCRIPTION:Eine abendlich-nächtliche Wanderung führt uns in den Lebensra
 um des Ziegenmelkers. Treffpunkt für die dreistündige Exkursion ist der 
 Friedhof in Staakow.\n\n \n\nErleben: Artenvielfalt\, Naturschutz\n\nAnmel
 dung: erforderlich bis 27.05.2026\n\nTeilnehmer: mind. 5\, max. 15 Persone
 n\n\nHinweise: witterungsgerechte Bekleidung\n\n \n\nDiese Führung ist ei
 n Angebot der „Ranger- und Erlebnistouren“.\n\nKontakt:\n\nNaturwacht 
 im Naturpark Schlaubetal\nDorfstraße 60\n15848 Friedland\nTelefon: +49 03
 3673 55097\nEmail: \n\nWeitere Informationen zur Veranstaltung: http://tes
 t.reiseregion-flaeming.de/veranstaltung/lausitzer-seenland/rangertour-zieg
 enmelkerwanderung
CATEGORIES:Exkursion / Wanderung
DTSTAMP:20260419T131719Z
END:VEVENT
END:VCALENDAR