BEGIN:VCALENDAR
VERSION:2.0
PRODID:test.reiseregion-flaeming.de
BEGIN:VEVENT
UID:69e4e4d6353bb
DTSTART:20260806T220000Z
SEQUENCE:0
TRANSP:OPAQUE
DTEND:20260807T220000Z
URL:http://test.reiseregion-flaeming.de/veranstaltung/spreewald/lichterfahr
 t-der-parkeisenbahn
LOCATION:Parkeisenbahn Cottbus\, Am Eliaspark 1\, 03042 Cottbus
X-APPLE-STRUCTURED-LOCATION;VALUE=URI;X-ADDRESS="Parkeisenbahn Cottbus, Am 
 Eliaspark 1, 03042 Cottbus";X-APPLE-RADIUS=49;X-TITLE=Parkeisenbahn Cottbu
 s:geo:14.354002,51.754563
GEO:14.354002;51.754563
SUMMARY:Lichterfahrt der Parkeisenbahn
CLASS:PUBLIC
DESCRIPTION:Gemütliche Fahrt mit der kleinen Eisenbahn durch das Cottbuser
  Parkareal zum Elbenwaldfestival im Spreeauenpark.\n\nDie genauen Fahrzeit
 en entnehmen Sie bitte der Webseite der Parkeisenbahn Cottbus.\n\nKontakt:
 \n\nParkeisenbahn Cottbus\nAm Eliaspark 1\n03042 Cottbus\nTelefon: +49 355
  756170\nEmail: cbv@cottbusverkehr.de\n\nWeitere Informationen zur Veranst
 altung: http://test.reiseregion-flaeming.de/veranstaltung/spreewald/lichte
 rfahrt-der-parkeisenbahn
CATEGORIES:Kinder und Jugendliche,Exkursion / Wanderung
DTSTAMP:20260419T142110Z
END:VEVENT
BEGIN:VEVENT
UID:69e4e4d6a7096
DTSTART:20260807T220000Z
SEQUENCE:0
TRANSP:OPAQUE
DTEND:20260808T220000Z
URL:http://test.reiseregion-flaeming.de/veranstaltung/spreewald/lichterfahr
 t-der-parkeisenbahn
LOCATION:Parkeisenbahn Cottbus\, Am Eliaspark 1\, 03042 Cottbus
X-APPLE-STRUCTURED-LOCATION;VALUE=URI;X-ADDRESS="Parkeisenbahn Cottbus, Am 
 Eliaspark 1, 03042 Cottbus";X-APPLE-RADIUS=49;X-TITLE=Parkeisenbahn Cottbu
 s:geo:14.354002,51.754563
GEO:14.354002;51.754563
SUMMARY:Lichterfahrt der Parkeisenbahn
CLASS:PUBLIC
DESCRIPTION:Gemütliche Fahrt mit der kleinen Eisenbahn durch das Cottbuser
  Parkareal zum Elbenwaldfestival im Spreeauenpark.\n\nDie genauen Fahrzeit
 en entnehmen Sie bitte der Webseite der Parkeisenbahn Cottbus.\n\nKontakt:
 \n\nParkeisenbahn Cottbus\nAm Eliaspark 1\n03042 Cottbus\nTelefon: +49 355
  756170\nEmail: cbv@cottbusverkehr.de\n\nWeitere Informationen zur Veranst
 altung: http://test.reiseregion-flaeming.de/veranstaltung/spreewald/lichte
 rfahrt-der-parkeisenbahn
CATEGORIES:Kinder und Jugendliche,Exkursion / Wanderung
DTSTAMP:20260419T142110Z
END:VEVENT
END:VCALENDAR