BEGIN:VCALENDAR
VERSION:2.0
PRODID:test.reiseregion-flaeming.de
BEGIN:VEVENT
UID:69e4e498b926e
DTSTART:20261030T150000Z
SEQUENCE:0
TRANSP:OPAQUE
DTEND:20261030T153000Z
URL:http://test.reiseregion-flaeming.de/veranstaltung/spreewald/halloweenfa
 hrten-mit-der-parkeisenbahn-cottbus
LOCATION:Parkeisenbahn Cottbus\, Am Eliaspark 1\, 03042 Cottbus
X-APPLE-STRUCTURED-LOCATION;VALUE=URI;X-ADDRESS="Parkeisenbahn Cottbus, Am 
 Eliaspark 1, 03042 Cottbus";X-APPLE-RADIUS=49;X-TITLE=Parkeisenbahn Cottbu
 s:geo:14.354002,51.754563
GEO:14.354002;51.754563
SUMMARY:Halloweenfahrten mit der Parkeisenbahn Cottbus
CLASS:PUBLIC
DESCRIPTION:Schön schaurig geht's durch das Cottbuser Parkareal.\n\nDie ge
 nauen Fahrzeiten entnehmen Sie bitte der Webseite der Parkeisenbahn.\n\nKo
 ntakt:\n\nParkeisenbahn Cottbus\nAm Eliaspark 1\n03042 Cottbus\nTelefon: +
 49 355 756170\nEmail: cbv@cottbusverkehr.de\n\nWeitere Informationen zur V
 eranstaltung: http://test.reiseregion-flaeming.de/veranstaltung/spreewald/
 halloweenfahrten-mit-der-parkeisenbahn-cottbus
CATEGORIES:Kinder und Jugendliche,Exkursion / Wanderung
DTSTAMP:20260419T142009Z
END:VEVENT
BEGIN:VEVENT
UID:69e4e4993287f
DTSTART:20261031T150000Z
SEQUENCE:0
TRANSP:OPAQUE
DTEND:20261031T153000Z
URL:http://test.reiseregion-flaeming.de/veranstaltung/spreewald/halloweenfa
 hrten-mit-der-parkeisenbahn-cottbus
LOCATION:Parkeisenbahn Cottbus\, Am Eliaspark 1\, 03042 Cottbus
X-APPLE-STRUCTURED-LOCATION;VALUE=URI;X-ADDRESS="Parkeisenbahn Cottbus, Am 
 Eliaspark 1, 03042 Cottbus";X-APPLE-RADIUS=49;X-TITLE=Parkeisenbahn Cottbu
 s:geo:14.354002,51.754563
GEO:14.354002;51.754563
SUMMARY:Halloweenfahrten mit der Parkeisenbahn Cottbus
CLASS:PUBLIC
DESCRIPTION:Schön schaurig geht's durch das Cottbuser Parkareal.\n\nDie ge
 nauen Fahrzeiten entnehmen Sie bitte der Webseite der Parkeisenbahn.\n\nKo
 ntakt:\n\nParkeisenbahn Cottbus\nAm Eliaspark 1\n03042 Cottbus\nTelefon: +
 49 355 756170\nEmail: cbv@cottbusverkehr.de\n\nWeitere Informationen zur V
 eranstaltung: http://test.reiseregion-flaeming.de/veranstaltung/spreewald/
 halloweenfahrten-mit-der-parkeisenbahn-cottbus
CATEGORIES:Kinder und Jugendliche,Exkursion / Wanderung
DTSTAMP:20260419T142009Z
END:VEVENT
END:VCALENDAR