BEGIN:VCALENDAR
VERSION:2.0
PRODID:test.reiseregion-flaeming.de
BEGIN:VEVENT
UID:69e7ac7535cde
DTSTART:20260426T070000Z
SEQUENCE:0
TRANSP:OPAQUE
DTEND:20260426T130000Z
URL:http://test.reiseregion-flaeming.de/veranstaltung/spreewald/30-fruehlin
 gsradeln-des-rsc-cottbus-ev
LOCATION:Sportzentrum Cottbus (Radstadion)\, Dresdener Straße 18\, 03050 C
 ottbus
X-APPLE-STRUCTURED-LOCATION;VALUE=URI;X-ADDRESS="Sportzentrum Cottbus (Rads
 tadion), Dresdener Straße 18, 03050 Cottbus";X-APPLE-RADIUS=49;X-TITLE=Sp
 ortzentrum Cottbus (Radstadion):geo:14.338114,51.739757
GEO:14.338114;51.739757
SUMMARY:30. Frühlingsradeln des RSC Cottbus e.V.
CLASS:PUBLIC
DESCRIPTION:**„Auf zum Jubiläumsradeln ins Lausitz Velodrom“ mit ehema
 ligen prominenten Friedensfahrt-Fahrern vor 50 Jahren**\n\nDas diesjährig
 e 30-jährige Frühlingsradeln läuft in diesem Jahr unter dem Motto „50
  Jahre Friedensfahrt-Sieg“. Der ehemalige Cottbuser Friedensfahrt-Sieger
  Hans-Joachim Hartnick gewann vor 50 Jahren die 29. Friedensfahrt (Prag-Wa
 rschau-Berlin) in der Gesamteinzelwertung. Er wird gemeinsam mit dem OB Sc
 hick den Startschuss geben. Gemeinsam mit den beiden werden am Sonntagmorg
 en des 26. April wieder hunderte Radler in die Pedale treten. Highlight de
 r Jubiläumstour ist die 26 km Fahrstecke – sie führt erstmalig auf die
  Umgehungsstraße bei Kahren.\n\nDer Vorverkauf der Tickets zum Preis von 
 5\,- € ist im Fahrradcenter Heßlich gestartet. In diesem Jahr gibt es n
 och ein Gutschein dazu. Unsere kleinen Radsportler (von 3 bis 8 Jahren) fa
 hren ebenfalls eine Runde mit viel Spaß. Die Läufer und Läuferinnen mit
  und ohne Stöcke starten kurz nach 10 Uhr auf einem Läuferkurs über 10 
 km Richtung Madlower Schluchten.\n\n„Gegen 12 Uhr treffen alle zur groß
 en Radlerparty im Innenraum des Lausitz Velodroms ein“\, so RSCGeschäft
 sführer Viertler. „Wir möchten das Motto zum Anlass nehmen\, weitere n
 amhafte Friedensfahrtteilnehmer im Velodrom zu begrüßen: u.a. die Cottbu
 ser Lutz Heßlich und Bernd Drogran und den aus Gera stammenden Olaf Ludwi
 g. Er war Gesamtsieger 1983\, holte den Olympiasieg 1988 und war als Profi
  bei der Tour de France. Lassen Sie sich überraschen\, was der RBB/MDR no
 ch in seinem Archiv an Filmaufnahmen der Friedensfahrt vor 50 Jahren präs
 entiert.\n\nFür Essen und Trinken sorgen die Frauen des Veloteam sowie da
 s Team vom S-Treff aus Großräschen.\n\nIn diesem Jahr verlost das Fahrra
 dcenter Heßlich als einen Hauptpreis ein Fahrrad und der RSC Cottbus ein 
 Kinderrad. Die langjährigen Sponsoren wie die Stadtwerke Cottbus stellen 
 wieder eine tolle Reise für 2 Personen zur Verlosung bereit. Daneben kann
  verraten werden – es gibt einen Hubschrauber-Rundflug von AeroHeli und 
 eine Verschönerungskur für das Auto vom Autohaus Frahnow\, um nur einige
  Preise zu nennen\, zu gewinnen.\n\nKontakt:\n\nRadsportclub Cottbus e.V.\
 nDresdener Straße 18\n03050 Cottbus\nTelefon: +49 355 474670\nEmail: \nWe
 bseite: https://www.rsc-cottbus.de\n\nWeitere Informationen zur Veranstalt
 ung: http://test.reiseregion-flaeming.de/veranstaltung/spreewald/30-fruehl
 ingsradeln-des-rsc-cottbus-ev
CATEGORIES:Radtouren
DTSTAMP:20260421T165725Z
END:VEVENT
END:VCALENDAR