BEGIN:VCALENDAR
VERSION:2.0
PRODID:test.reiseregion-flaeming.de
BEGIN:VEVENT
UID:69e62b9670bc5
DTSTART:20261017T080000Z
SEQUENCE:0
TRANSP:OPAQUE
DTEND:20261017T120000Z
URL:http://test.reiseregion-flaeming.de/veranstaltung/havelland/kraeuterwer
 kstatt-wilde-kueche-kurs-mit-sammeln-und-kochen-2
LOCATION:Kräuter-Heidi in der Kräuterwerkstatt\, Kammeroder Weg 4\, 14548
  Schwielowsee
X-APPLE-STRUCTURED-LOCATION;VALUE=URI;X-ADDRESS="Kräuter-Heidi in der Krä
 uterwerkstatt, Kammeroder Weg 4, 14548 Schwielowsee";X-APPLE-RADIUS=49;X-T
 ITLE=Kräuter-Heidi in der Kräuterwerkstatt:geo:12.918669,52.312060
GEO:12.918669;52.312060
SUMMARY:Kräuterwerkstatt „Wilde Küche“ Kurs mit Sammeln und Kochen
CLASS:PUBLIC
DESCRIPTION:Wir kochen mit den Früchten aus dem Garten\, Gewürzen und Kr
 äutern\, sammeln Wildkräuter\, stellen ein Oxymel her inkl. Getränke\, 
 Snack\, eigenes Oxymel\, Unterlagen\n\nKontakt:\n\nHeidi Knappe\nKammerode
 r Weg 4\n14548 Schwielowsee\nTelefon: +49 033209 439078\nEmail: info@kraeu
 ter-heidi.de\nWebseite: https://www.kraeuter-heidi.de\n\nWeitere Informati
 onen zur Veranstaltung: http://test.reiseregion-flaeming.de/veranstaltung/
 havelland/kraeuterwerkstatt-wilde-kueche-kurs-mit-sammeln-und-kochen-2
CATEGORIES:Essen und Trinken
DTSTAMP:20260420T133518Z
END:VEVENT
END:VCALENDAR