BEGIN:VCALENDAR
VERSION:2.0
PRODID:test.reiseregion-flaeming.de
BEGIN:VEVENT
UID:69e4e4d6c7b87
DTSTART:20260704T070000Z
SEQUENCE:0
TRANSP:OPAQUE
DTEND:20260704T170000Z
URL:http://test.reiseregion-flaeming.de/veranstaltung/lausitzer-seenland/20
 -beachcup-der-sportfreunde-baerwalder-see-ev
LOCATION:Badestrand Bärwalder See Ufer Boxberg OL\, 02943 Boxberg/O.L. (La
 usitzer Seenland)
X-APPLE-STRUCTURED-LOCATION;VALUE=URI;X-ADDRESS="Badestrand Bärwalder See 
 Ufer Boxberg OL, 02943 Boxberg/O.L. (Lausitzer Seenland)";X-APPLE-RADIUS=4
 9;X-TITLE=Badestrand Bärwalder See Ufer Boxberg OL:geo:14.580891,51.40232
 4
GEO:14.580891;51.402324
SUMMARY:20. BeachCup der Sportfreunde Bärwalder See e.V.
CLASS:PUBLIC
DESCRIPTION:**20\\. Beachcup – Volleyballturnier**\n\n Der Beachcup feier
 t Jubiläum!\n\nZum 20. mal laden wir alle Volleyballbegeisterten\, Freize
 it- und Hobbymannschaften herzlich ein\, mit uns bei guter Stimmung und Mu
 sik zu feiern. Für das leibliche Wohl ist wie immer bestens gesorgt.\n\n 
 Für unsere Jubiläums-Veranstaltung wird die Anmeldung am 14.02.2026 um 1
 2 Uhr geöffnet.\n\n \n\nWir freuen uns auf die Party!\n\nKontakt:\n\nHerr
  Michael Meltzer\nQuergasse  54\n02943 Boxberg OL\nTelefon: +49 173 958597
 \nEmail: m.meltzer@t-online.de\nWebseite: https://sportfreunde-baerwalder-
 see.de/\n\nWeitere Informationen zur Veranstaltung: http://test.reiseregio
 n-flaeming.de/veranstaltung/lausitzer-seenland/20-beachcup-der-sportfreund
 e-baerwalder-see-ev
CATEGORIES:Fest / Brauchtum,Sport
DTSTAMP:20260419T142110Z
END:VEVENT
BEGIN:VEVENT
UID:69e4e4d6e0597
DTSTART:20260705T070000Z
SEQUENCE:0
TRANSP:OPAQUE
DTEND:20260705T130000Z
URL:http://test.reiseregion-flaeming.de/veranstaltung/lausitzer-seenland/20
 -beachcup-der-sportfreunde-baerwalder-see-ev
LOCATION:Badestrand Bärwalder See Ufer Boxberg OL\, 02943 Boxberg/O.L. (La
 usitzer Seenland)
X-APPLE-STRUCTURED-LOCATION;VALUE=URI;X-ADDRESS="Badestrand Bärwalder See 
 Ufer Boxberg OL, 02943 Boxberg/O.L. (Lausitzer Seenland)";X-APPLE-RADIUS=4
 9;X-TITLE=Badestrand Bärwalder See Ufer Boxberg OL:geo:14.580891,51.40232
 4
GEO:14.580891;51.402324
SUMMARY:20. BeachCup der Sportfreunde Bärwalder See e.V.
CLASS:PUBLIC
DESCRIPTION:**20\\. Beachcup – Volleyballturnier**\n\n Der Beachcup feier
 t Jubiläum!\n\nZum 20. mal laden wir alle Volleyballbegeisterten\, Freize
 it- und Hobbymannschaften herzlich ein\, mit uns bei guter Stimmung und Mu
 sik zu feiern. Für das leibliche Wohl ist wie immer bestens gesorgt.\n\n 
 Für unsere Jubiläums-Veranstaltung wird die Anmeldung am 14.02.2026 um 1
 2 Uhr geöffnet.\n\n \n\nWir freuen uns auf die Party!\n\nKontakt:\n\nHerr
  Michael Meltzer\nQuergasse  54\n02943 Boxberg OL\nTelefon: +49 173 958597
 \nEmail: m.meltzer@t-online.de\nWebseite: https://sportfreunde-baerwalder-
 see.de/\n\nWeitere Informationen zur Veranstaltung: http://test.reiseregio
 n-flaeming.de/veranstaltung/lausitzer-seenland/20-beachcup-der-sportfreund
 e-baerwalder-see-ev
CATEGORIES:Fest / Brauchtum,Sport
DTSTAMP:20260419T142110Z
END:VEVENT
END:VCALENDAR