BEGIN:VCALENDAR
VERSION:2.0
PRODID:test.reiseregion-flaeming.de
BEGIN:VEVENT
UID:69e7881b5e8e6
DTSTART:20260613T080000Z
SEQUENCE:0
TRANSP:OPAQUE
DTEND:20260613T160000Z
URL:http://test.reiseregion-flaeming.de/veranstaltung/lausitzer-seenland/na
 tur-und-regionalmarkt-im-rahmen-des-heimatfestes-in-klitten
LOCATION:Parkschlösschen Klitten\, Sraße der Jugend\, 02943 Boxberg
X-APPLE-STRUCTURED-LOCATION;VALUE=URI;X-ADDRESS="Parkschlösschen Klitten, 
 Sraße der Jugend, 02943 Boxberg";X-APPLE-RADIUS=49;X-TITLE=Parkschlössch
 en Klitten:geo:14.595225,51.351805
GEO:14.595225;51.351805
SUMMARY:Natur- und Regionalmarkt im Rahmen des Heimatfestes in Klitten
CLASS:PUBLIC
DESCRIPTION:Freuen Sie sich auf unseren nächsten Natur- und Regionalmarkt.
  Wir bringen die Vielfalt unserer Region direkt zu Ihnen! Stöbern Sie zwi
 schen Handwerk\, Naturprodukten und frischen Spezialitäten.\n\n Wenn Sie 
 Interesse haben Aussteller/Anbieter bei unserem Regionalmarkt zu sein\, me
 lden Sie sich bitte auf unserer Homepage an.\n\nKontakt:\n\nPerspektive Bo
 xberg OL  e.V.\nChristine Zeidler\nEichenweg  97\n02943 Boxberg/O.L.\nTele
 fon: +49 157 501 636 18\nEmail: info@natur-regional-markt.de\nWebseite: ht
 tps://natur-regional-markt.de/\n\nWeitere Informationen zur Veranstaltung:
  http://test.reiseregion-flaeming.de/veranstaltung/lausitzer-seenland/natu
 r-und-regionalmarkt-im-rahmen-des-heimatfestes-in-klitten
CATEGORIES:Markt
DTSTAMP:20260421T142219Z
END:VEVENT
END:VCALENDAR