BEGIN:VCALENDAR
VERSION:2.0
PRODID:test.reiseregion-flaeming.de
BEGIN:VEVENT
UID:69e62c0943db3
DTSTART:20260607T070000Z
SEQUENCE:0
TRANSP:OPAQUE
DTEND:20260607T103000Z
URL:http://test.reiseregion-flaeming.de/veranstaltung/lausitzer-seenland/ra
 ngertour-kraeuterwanderung
LOCATION:Friedhof Reicherskreuz\, Reicherskreuz 18a\, 03172 Schenkendöbern
X-APPLE-STRUCTURED-LOCATION;VALUE=URI;X-ADDRESS="Friedhof Reicherskreuz, Re
 icherskreuz 18a, 03172 Schenkendöbern";X-APPLE-RADIUS=49;X-TITLE=Friedhof
  Reicherskreuz:geo:14.463936,52.028729
GEO:14.463936;52.028729
SUMMARY:RangerTour: Kräuterwanderung
CLASS:PUBLIC
DESCRIPTION:Erfahren Sie auf der dreieinhalbstündigen Exkursion am Rande d
 es Fauna-Flora-Habitat-Gebiets \"Reicherskreuzer Heide und Schwansee\" meh
 r über die bedrohte Artenvielfalt am Wegesrand.\n\n \n\nErleben: Artenvie
 lfalt\, Naturschutz\n\nAnmeldung: erforderlich bis 04.06.2026\n\nTeilnehme
 r: mind. 5\, max. 15 Personen\n\nHinweise: witterungsgerechte Bekleidung\,
  Bestimmungsbuch ist willkommen\n\n \n\nDiese Führung ist ein Angebot der
  „Ranger- und Erlebnistouren“.\n\nKontakt:\n\nNaturwacht im Naturpark 
 Schlaubetal\nDorfstraße 60\n15848 Friedland\nTelefon: +49 033673 55097\nE
 mail: \n\nWeitere Informationen zur Veranstaltung: http://test.reiseregion
 -flaeming.de/veranstaltung/lausitzer-seenland/rangertour-kraeuterwanderung
CATEGORIES:Exkursion / Wanderung
DTSTAMP:20260420T133714Z
END:VEVENT
END:VCALENDAR