BEGIN:VCALENDAR
VERSION:2.0
PRODID:test.reiseregion-flaeming.de
BEGIN:VEVENT
UID:69e79cc97b6a9
DTSTART:20261129T120000Z
SEQUENCE:0
TRANSP:OPAQUE
DTEND:20261129T150000Z
URL:http://test.reiseregion-flaeming.de/veranstaltung/uckermark/adventsbasa
 r-in-der-scheunenkirche-wilmersdorf
LOCATION:Scheunenkirche Wilmersdorf\, Wilmersdorfer Straße 6\, 16278 Anger
 münde
X-APPLE-STRUCTURED-LOCATION;VALUE=URI;X-ADDRESS="Scheunenkirche Wilmersdorf
 , Wilmersdorfer Straße 6, 16278 Angermünde";X-APPLE-RADIUS=49;X-TITLE=Sc
 heunenkirche Wilmersdorf:geo:13.909643,53.109871
GEO:13.909643;53.109871
SUMMARY:Adventsbasar in der Scheunenkirche Wilmersdorf
CLASS:PUBLIC
DESCRIPTION:mit anschließendem Adventsliedersingen um 14:00 Uhr\n\nKontakt
 :\n\nFörderverein Scheunenkirche Wilmersdorf e. V.\n\n16278 Angermünde\n
 Telefon: +49 33334 70573\nEmail: \nWebseite: https://scheunenkirche.de/\n\
 nWeitere Informationen zur Veranstaltung: http://test.reiseregion-flaeming
 .de/veranstaltung/uckermark/adventsbasar-in-der-scheunenkirche-wilmersdorf
CATEGORIES:Klassisches Konzert / Oper,Kinder und Jugendliche
DTSTAMP:20260421T155033Z
END:VEVENT
END:VCALENDAR