BEGIN:VCALENDAR
VERSION:2.0
PRODID:test.reiseregion-flaeming.de
BEGIN:VEVENT
UID:69e89df94bacb
DTSTART:20260510T080000Z
SEQUENCE:0
TRANSP:OPAQUE
DTEND:20260510T100000Z
URL:http://test.reiseregion-flaeming.de/veranstaltung/spreewald/so-wild-ist
 -luebben-termine-auch-frei-verfuegbar
LOCATION:Lübben\, OT Hartmannsdorf\, Friedhof\, Liuba Weg 5\, 15907 Lübbe
 n (Spreewald)
X-APPLE-STRUCTURED-LOCATION;VALUE=URI;X-ADDRESS="Lübben, OT Hartmannsdorf,
  Friedhof, Liuba Weg 5, 15907 Lübben (Spreewald)";X-APPLE-RADIUS=49;X-TIT
 LE="Lübben, OT Hartmannsdorf, Friedhof":geo:13.890580,51.965623
GEO:13.890580;51.965623
SUMMARY:So wild ist Lübben - Termine auch frei verfügbar
CLASS:PUBLIC
DESCRIPTION:Das Gebiet links und rechts der Spree nördlich von Lübben ent
 wickelt sich seit ca. 40 Jahren mit nur geringem Einfluss des Menschen imm
 er mehr zu natürlichen Zuständen.  \nAus Bodenentnahmestellen zum Deich-
  und Wegebau wurden in der Zwischenzeit natürlich anmutende kleine Teiche
  und aus Wiesen und ehemaligen Fischteichen wieder Moore und Wälder\, wie
  man sie bei uns kaum vermutet.  \nDiese Gebiete beinhalten mittlerweile e
 ine außerordentlich reiche Tier und Pflanzenwelt und sind als Naturschutz
 - und FFH – Gebiet geschützt. In dieser Region sind Kuckuck und Pirol n
 achgerade häufig zu beobachten.\n\n**INFOS**  \nTreffpunkt: Parkplatz am 
 Friedhof des Ortsteils Hartmannsdorf der Stadt Lübben.  \nDauer: ca. 2 St
 unde  \nMindestteilnehmerzahl: 5 Vollzahler\n\n**ANMELDUNG**  \nEmail: arn
 ulf.weingardt@gmx.net\; Tel. 0174 240 5955\n\n**HINWEISE**  \nFeste Schuhe
  und Bekleidung zwingend erforderlich\n\nKontakt:\n\nMuseum Schloss Lübbe
 n\nArnulf Weingardt\nErnst-von-Houwald-Damm  14\n15907 Lübben (Spreewald)
 \nTelefon: +49 3546 187478\nEmail: \n\nWeitere Informationen zur Veranstal
 tung: http://test.reiseregion-flaeming.de/veranstaltung/spreewald/so-wild-
 ist-luebben-termine-auch-frei-verfuegbar
CATEGORIES:Führung / Besichtigung
DTSTAMP:20260422T100754Z
END:VEVENT
END:VCALENDAR