BEGIN:VCALENDAR
VERSION:2.0
PRODID:test.reiseregion-flaeming.de
BEGIN:VEVENT
UID:69e63ed9e43c7
DTSTART:20260422T160000Z
SEQUENCE:0
TRANSP:OPAQUE
DTEND:20260422T183000Z
URL:http://test.reiseregion-flaeming.de/veranstaltung/uckermark/spieleabend
 -in-der-bibliothek-fuer-jugendliche-und-erwachsene
LOCATION:Dominikanerkloster Prenzlau\, Uckerwiek 813\, 17291 Prenzlau
X-APPLE-STRUCTURED-LOCATION;VALUE=URI;X-ADDRESS="Dominikanerkloster Prenzla
 u, Uckerwiek 813, 17291 Prenzlau";X-APPLE-RADIUS=49;X-TITLE=Dominikanerklo
 ster Prenzlau:geo:13.861200,53.310038
GEO:13.861200;53.310038
SUMMARY:Spieleabend in der Bibliothek für Jugendliche und Erwachsene
CLASS:PUBLIC
DESCRIPTION:Ab 2026 bieten wir ein neues Angebot von und in der Stadtbiblio
 thek an. Wir laden zu einer gemütlichen Runde am Spieltisch ein.   \nFür
  Jugendliche und Erwachsene besteht die Chance neue Spiele auszuprobieren\
 , bei Klassikern seine Strategien zu nutzen\, Welten zu erobern\, bei Kart
 enspielen manches Risiko einzugehen und auf Brettspielen als erstes das Zi
 el zu erreichen. Ob ein langes Strategiespiel\, eine schnelle Runde Würfe
 ln\, Rätseln bei Escape-Spielen oder Stunden mit den Spielpreisträgern d
 er vergangenen Jahre – Sie dürfen sich an unserem Spieleregal bedienen 
 und vielleicht nebenbei andere Spielbegeisterte kennenlernen.  \nEintritt 
 frei!\n\nKontakt:\n\nDominikanerkloster Prenzlau Stadtbibliothek\nUckerwie
 k 813\n17291 Prenzlau\nTelefon: +49 3984 75274\nEmail: stadtbibliothek@dom
 inikanerkloster-prenzlau.de\nWebseite: https://www.dominikanerkloster-pren
 zlau.de\n\nWeitere Informationen zur Veranstaltung: http://test.reiseregio
 n-flaeming.de/veranstaltung/uckermark/spieleabend-in-der-bibliothek-fuer-j
 ugendliche-und-erwachsene
CATEGORIES:Lesung / Vortrag
DTSTAMP:20260420T145730Z
END:VEVENT
END:VCALENDAR