BEGIN:VCALENDAR
VERSION:2.0
PRODID:test.reiseregion-flaeming.de
BEGIN:VEVENT
UID:69e8ad5db1ea3
DTSTART:20261016T170000Z
SEQUENCE:0
TRANSP:OPAQUE
DTEND:20261016T183000Z
URL:http://test.reiseregion-flaeming.de/veranstaltung/flaeming/entdecke-jue
 terbog-in-der-dunkelheit-zusammen-mit-unserem-nachtwaechter
LOCATION:Jüterbog - Die Mittelalterliche Hauptstadt des Flämings\, Markt 
 21\, 14913 Jüterbog
X-APPLE-STRUCTURED-LOCATION;VALUE=URI;X-ADDRESS="Jüterbog - Die Mittelalte
 rliche Hauptstadt des Flämings, Markt 21, 14913 Jüterbog";X-APPLE-RADIUS
 =49;X-TITLE=Jüterbog - Die Mittelalterliche Hauptstadt des Flämings:geo:
 13.080022,51.991011
GEO:13.080022;51.991011
SUMMARY:Entdecke Jüterbog in der Dunkelheit zusammen mit unserem Nachtwäc
 hter
CLASS:PUBLIC
DESCRIPTION:Erkunden Sie den mittelalterlichen Stadtkern Jüterbogs zusamme
 n mit unserem Nachtwächter. Er hat so einiges zu erzählen über die Halu
 nken\, die bei Nacht in die Stadt eindringen wollten. Gehen Sie entlang de
 r einst schützenden Mauer und ihren emporragenden Türmen\, die auch heut
 e noch Sicherheit geben und den Altstadtkern fast voll umschließen. Ein G
 roßteil der einstigen Wehranlage ist bis heute sehr gut erhalten.\n\nKont
 akt:\n\nStadtinformation Jüterbog\nMönchenkirchplatz 4\n14913 Jüterbog\
 nTelefon: +49 3372 463113\nEmail: stadtinformation@jueterbog.de\n\nWeitere
  Informationen zur Veranstaltung: http://test.reiseregion-flaeming.de/vera
 nstaltung/flaeming/entdecke-jueterbog-in-der-dunkelheit-zusammen-mit-unser
 em-nachtwaechter
CATEGORIES:Führung / Besichtigung
DTSTAMP:20260422T111335Z
END:VEVENT
BEGIN:VEVENT
UID:69e8ad5ea0bb9
DTSTART:20261106T170000Z
SEQUENCE:0
TRANSP:OPAQUE
DTEND:20261106T183000Z
URL:http://test.reiseregion-flaeming.de/veranstaltung/flaeming/entdecke-jue
 terbog-in-der-dunkelheit-zusammen-mit-unserem-nachtwaechter
LOCATION:Jüterbog - Die Mittelalterliche Hauptstadt des Flämings\, Markt 
 21\, 14913 Jüterbog
X-APPLE-STRUCTURED-LOCATION;VALUE=URI;X-ADDRESS="Jüterbog - Die Mittelalte
 rliche Hauptstadt des Flämings, Markt 21, 14913 Jüterbog";X-APPLE-RADIUS
 =49;X-TITLE=Jüterbog - Die Mittelalterliche Hauptstadt des Flämings:geo:
 13.080022,51.991011
GEO:13.080022;51.991011
SUMMARY:Entdecke Jüterbog in der Dunkelheit zusammen mit unserem Nachtwäc
 hter
CLASS:PUBLIC
DESCRIPTION:Erkunden Sie den mittelalterlichen Stadtkern Jüterbogs zusamme
 n mit unserem Nachtwächter. Er hat so einiges zu erzählen über die Halu
 nken\, die bei Nacht in die Stadt eindringen wollten. Gehen Sie entlang de
 r einst schützenden Mauer und ihren emporragenden Türmen\, die auch heut
 e noch Sicherheit geben und den Altstadtkern fast voll umschließen. Ein G
 roßteil der einstigen Wehranlage ist bis heute sehr gut erhalten.\n\nKont
 akt:\n\nStadtinformation Jüterbog\nMönchenkirchplatz 4\n14913 Jüterbog\
 nTelefon: +49 3372 463113\nEmail: stadtinformation@jueterbog.de\n\nWeitere
  Informationen zur Veranstaltung: http://test.reiseregion-flaeming.de/vera
 nstaltung/flaeming/entdecke-jueterbog-in-der-dunkelheit-zusammen-mit-unser
 em-nachtwaechter
CATEGORIES:Führung / Besichtigung
DTSTAMP:20260422T111335Z
END:VEVENT
END:VCALENDAR