BEGIN:VCALENDAR
VERSION:2.0
PRODID:test.reiseregion-flaeming.de
BEGIN:VEVENT
UID:69e7dc67041f2
DTSTART:20260812T190000Z
SEQUENCE:0
TRANSP:OPAQUE
DTEND:20260812T220000Z
URL:http://test.reiseregion-flaeming.de/veranstaltung/havelland/nacht-der-s
 ternschnuppen
LOCATION:Sportplatz Milow\, Friedensstraße\, 14715 Milower Land
X-APPLE-STRUCTURED-LOCATION;VALUE=URI;X-ADDRESS="Sportplatz Milow, Friedens
 straße, 14715 Milower Land";X-APPLE-RADIUS=49;X-TITLE=Sportplatz Milow:ge
 o:12.310917,52.520035
GEO:12.310917;52.520035
SUMMARY:Nacht der Sternschnuppen
CLASS:PUBLIC
DESCRIPTION:Jedes Jahr um den 12. August kreuzt die Erde auf ihrem Weg um d
 ie Sonne die Umlaufbahnen eines Meteorstroms\, der aus Auflösungsprodukte
 n eines Kometen besteht. Wenn diese Objekte aus dem Weltraum in die Erdatm
 osphäre eindringen\, verursachen sie eine Leuchterscheinung\, die „Ster
 nschnuppen“. Für uns als Beobachter auf der Erdoberfläche scheint der 
 Ursprung aller dieser Sternschnuppen im Sternbild Perseus zu liegen\, dahe
 r kommt der Name Perseiden. Erfahren Sie an diesem Abend Interessantes aus
  der Welt des Kosmos.\n\nBringen Sie bitte Verpflegung\, sowie eine Decke/
 Liege/Klappstuhl mit\, um die Sternschnuppen auf der großen Wiese des Spo
 rtplatzes entspannt beobachten zu können. An warme Kleidung denken!\n\nKo
 ntakt:\n\nNaturparkZentrum Westhavelland\nStremmestraße 10\n14715 Milower
  Land\nTelefon: +49 3386 211227\nEmail: npz@nabu-westhavelland.de\nWebseit
 e: https://www.nabu-westhavelland.de/naturparkzentrum-westhavelland/\n\nWe
 itere Informationen zur Veranstaltung: http://test.reiseregion-flaeming.de
 /veranstaltung/havelland/nacht-der-sternschnuppen
CATEGORIES:Kinder und Jugendliche,Führung / Besichtigung
DTSTAMP:20260421T202159Z
END:VEVENT
END:VCALENDAR