BEGIN:VCALENDAR
VERSION:2.0
PRODID:test.reiseregion-flaeming.de
BEGIN:VEVENT
UID:69e7b2906c398
DTSTART:20260425T080000Z
SEQUENCE:0
TRANSP:OPAQUE
DTEND:20260425T160000Z
URL:http://test.reiseregion-flaeming.de/veranstaltung/lausitzer-seenland/se
 nftenberger-kurzfilmtag-und-33-deutscher-minutenwettbwerb
LOCATION:neue Bühne Senftenberg\, Theaterpassage  1\, 01968 Senftenberg
X-APPLE-STRUCTURED-LOCATION;VALUE=URI;X-ADDRESS="neue Bühne Senftenberg, T
 heaterpassage  1, 01968 Senftenberg";X-APPLE-RADIUS=49;X-TITLE=neue Bühne
  Senftenberg:geo:14.004120,51.522860
GEO:14.004120;51.522860
SUMMARY:Senftenberger Kurzfilmtag & 33. Deutscher Minutenwettbwerb
CLASS:PUBLIC
DESCRIPTION:Auch in diesem Jahr richten die Senftenberger Videofilmer den S
 pezialwettbewerb „Deutscher Minutenwettbewerb“ für den Bundesverband 
 BDFA aus.\n\nDie Zuschauer selbst bewerten jeden Film auf einem Wertungsze
 ttel. Nach Auszählung der vergebenen Punkte sind 16 Filme bestimmt\, die 
 ab 16.45 Uhr im Finale stehen. Dann treten 8 Filmpaare im k.o.-System an\,
  wobei jeweils der schwächere Film ausscheidet\, bis zuletzt der „Deuts
 che Minutenmeister“ ermittelt ist.\n\nNeben diesem unterhaltsamen Wettst
 reit zeigen die Videofilmer interessante Filme aus der OSTINALE 2025\, dem
  Leistungsvergleich der ostdeutschen Landesverbände.\n\nDer Eintritt ist 
 frei\n\nKontakt:\n\nUdo Heuberger\nKreuzweg 20\n01968 Großkoschen\nTelefo
 n: +49 3573 811156\nEmail: udo.heuberger@gmail.com\n\nWeitere Informatione
 n zur Veranstaltung: http://test.reiseregion-flaeming.de/veranstaltung/lau
 sitzer-seenland/senftenberger-kurzfilmtag-und-33-deutscher-minutenwettbwer
 b
CATEGORIES:Film
DTSTAMP:20260421T172328Z
END:VEVENT
END:VCALENDAR