BEGIN:VCALENDAR
VERSION:2.0
PRODID:test.reiseregion-flaeming.de
BEGIN:VEVENT
UID:69e79eeec8eeb
DTSTART:20261114T170000Z
SEQUENCE:0
TRANSP:OPAQUE
DTEND:20261114T224500Z
URL:http://test.reiseregion-flaeming.de/veranstaltung/seenland-oder-spree/m
 usikalischer-menueabend
LOCATION:Landhaushotel und Residenz \"Prinz Albrecht\"\, Frankfurter Straß
 e 34\, 15898 Neuzelle
X-APPLE-STRUCTURED-LOCATION;VALUE=URI;X-ADDRESS="Landhaushotel und Residenz
  \"Prinz Albrecht\", Frankfurter Straße 34, 15898 Neuzelle";X-APPLE-RADIU
 S=49;X-TITLE="Landhaushotel und Residenz \"Prinz Albrecht\"":geo:14.649318
 ,52.090249
GEO:14.649318;52.090249
SUMMARY:Musikalischer Menüabend
CLASS:PUBLIC
DESCRIPTION:Das Prinz Albrecht lädt zum Musikalischen Menüabend ein.\n\nK
 ommen Sie vorbei & lassen Sie sich verwöhnen.\n\nUm Reservierung wird geb
 eten!\n\n \n\n#neuzelle\n\nKontakt:\n\nLandhaushotel Prinz Albrecht\nFrank
 furter Straße  34\n15898 Neuzelle\nTelefon: +49 33652 81322\nEmail: info@
 hotel-prinz-albrecht.de\n\nWeitere Informationen zur Veranstaltung: http:/
 /test.reiseregion-flaeming.de/veranstaltung/seenland-oder-spree/musikalisc
 her-menueabend
CATEGORIES:Essen und Trinken
DTSTAMP:20260421T155942Z
END:VEVENT
END:VCALENDAR