BEGIN:VCALENDAR
VERSION:2.0
PRODID:test.reiseregion-flaeming.de
BEGIN:VEVENT
UID:69e76b4f5c915
DTSTART:20260610T160000Z
SEQUENCE:0
TRANSP:OPAQUE
DTEND:20260610T190000Z
URL:http://test.reiseregion-flaeming.de/veranstaltung/spreewald/kleine-drei
 -seen-kleinbus-tour
LOCATION:Heinz Sielmann Natur-Erlebniszentrum\, Wanninchen 1\, 15926 Luckau
X-APPLE-STRUCTURED-LOCATION;VALUE=URI;X-ADDRESS="Heinz Sielmann Natur-Erleb
 niszentrum, Wanninchen 1, 15926 Luckau";X-APPLE-RADIUS=49;X-TITLE=Heinz Si
 elmann Natur-Erlebniszentrum:geo:13.772209,51.788222
GEO:13.772209;51.788222
SUMMARY:Kleine Drei-Seen--Kleinbus-Tour
CLASS:PUBLIC
DESCRIPTION:Kleine Drei-Seen-Tour: Die Natur im Wandel der Abenddämmerung 
 \n\nDie zauberhafte Stille der Dämmerung schafft die ideale Atmosphäre\,
  um entspannt in den Feierabend zu starten und die Geheimnisse der heimisc
 hen Natur zu entschlüsseln. Am Mittwoch\, den 10. Juni 2026\, bietet dies
 e dreistündige Fachexkursion im Kleinbus die Gelegenheit\, die sich wande
 lnde Niederlausitzer Bergbaufolgelandschaft aus nächster Nähe zu erkunde
 n. In diesem Teil des Naturparks Niederlausitzer Landrücken lässt sich e
 indrucksvoll beobachten\, wie ungestörte Lebensräume entstehen\, wo eins
 t Kohle gefördert wurde. \n\nDas erwartet die Teilnehmenden: Die Tour die
 nt der gezielten Erweiterung des Wissens über Tiere und Ökologie. Die Te
 ilnehmenden erfahren Wissenswertes über die Entstehung neuer\, naturnaher
  Landschaften: \n\n  * Wandel verstehen: Teilnehmenden wird vermittelt\, w
 ie sich Flora und Fauna ihre Areals in den neu entstandenen Lebensräumen 
 zurückerobert haben - von kargen Sandflächen bis hin zu artenreichen Wä
 ldern und Seen des Luckauer Beckens.   \n \n  * ​Beobachtung in der Däm
 merung: Im Licht der untergehenden Sonne bietet sich die Gelegenheit zu ei
 ner ganz besonderen Naturbeobachtung: Während der Abendstunden werden vie
 le Tiere aktiv und die Landschaft zeigt sich von einer ganz anderen\, fast
  schon geheimnisvollen Seite. \n\n\n\nDas Angebot ist eine ideale Ergänzu
 ng für alle\, welche die Entwicklung der Lausitzer Seen und des Spreewald
 -Umfelds durch eine fachliche Brille kennenlernen möchten. \n\nVeranstalt
 ungsdetails \n\n  * Treffpunkt: Heinz Sielmann Natur-Erlebniszentrum in Wa
 nninchen \n\n\n\n​Hier wird der Anfahrtsweg beschrieben: [https://www.wa
 nninchen.de/besuch-planen/auf-einen-blick](http://https//www.wanninchen.de
 /besuch-planen/auf-einen-blick)  \nLink zu Google Maps: <https://maps.app.
 goo.gl/1dvRbtkvTHRy9n3n8>\n\n  * Zielgruppe: Erwachsene und Kinder ab 10 J
 ahren   \n \n  * ​Themenfokus: Ökologie\, natürliche Landschaftsentwic
 klung\, Naturschutz in der Bergbaufolgelandschaft   \n \n  * Teilnahmegeb
 ühr: 25 €   \n \n  * Anmeldung: Aufgrund der begrenzten Plätze im Klei
 nbus. Bitte hier anmelden:\n\n\n\n+49 (0)5527 / 914-341  \nwanninchen@siel
 mann-stiftung.de\n\nHinweis: Da auch kurze Strecken zu Fuß zurückgelegt 
 werden\, sind Trittsicherheit sowie wetterfeste Schuhe und Kleidung für d
 ie Exkursion notwendig. \n\nDiese Maßnahme wird durch das Ministerium fü
 r Landwirtschaft\, Umwelt und Klimaschutz (MLUK) des Landes Brandenburg ge
 fördert.\n\nKontakt:\n\nHeinz Sielmann Natur-Erlebniszentrum Wanninchen\n
 Wanninchen 1\n15926 Luckau\nTelefon: +49 5527 914341\nEmail: wanninchen@si
 elmann-stiftung.de\n\nWeitere Informationen zur Veranstaltung: http://test
 .reiseregion-flaeming.de/veranstaltung/spreewald/kleine-drei-seen-kleinbus
 -tour
CATEGORIES:Kinder und Jugendliche,Exkursion / Wanderung
DTSTAMP:20260421T121927Z
END:VEVENT
END:VCALENDAR