BEGIN:VCALENDAR
VERSION:2.0
PRODID:test.reiseregion-flaeming.de
BEGIN:VEVENT
UID:69e7542131473
DTSTART:20260625T170000Z
SEQUENCE:0
TRANSP:OPAQUE
DTEND:20260625T203000Z
URL:http://test.reiseregion-flaeming.de/veranstaltung/spreewald/filmvortrag
 -und-wanderung-zu-den-gluehwuermchen
LOCATION:Heinz Sielmann Natur-Erlebniszentrum\, Wanninchen 1\, 15926 Luckau
X-APPLE-STRUCTURED-LOCATION;VALUE=URI;X-ADDRESS="Heinz Sielmann Natur-Erleb
 niszentrum, Wanninchen 1, 15926 Luckau";X-APPLE-RADIUS=49;X-TITLE=Heinz Si
 elmann Natur-Erlebniszentrum:geo:13.772209,51.788222
GEO:13.772209;51.788222
SUMMARY:Filmvortrag & Wanderung zu den Glühwürmchen
CLASS:PUBLIC
DESCRIPTION:**Glühwürmchen im Fokus: Filmvortrag und geführte Nachtwande
 rung**  \n\nAn diesem besonderen Abend erwartet Naturfreunde und -freundin
 nen eine exklusive Verbindung aus filmischer Dokumentation und direktem Na
 turerlebnis. In Kooperation mit dem renommierten **Lausitzer Naturfilmer L
 ennert Piltz**  widmet sich das **Heinz Sielmann Natur-Erlebniszentrum in 
 Wanninchen**  dem faszinierenden Phänomen der Leuchtkäfer – erst auf d
 er Leinwand und dann unter freiem Himmel. \n\n**Vom Kinosaal in den Görls
 dorfer Wald**  Die Veranstaltung ist in zwei aufeinander aufbauende Teile 
 gegliedert\, um ein tiefes Verständnis für die Nachtökologie zu vermitt
 eln: \n\n  * **Faszination auf der Leinwand:**  Im ersten Teil zeigt Lenne
 rt Piltz beeindruckende Aufnahmen der leuchtenden Insekten. Der Filmvortra
 g bietet detaillierte Einblicke in die Biologie der Johanniskäfer\, die d
 em bloßen Auge im Dunkeln oft verborgen bleiben.   \n \n  * **​Das näc
 htliche Schauspiel live:**  Im Anschluss begeben sich die Teilnehmenden au
 f eine rund zwei Kilometer lange Exkursion in den angrenzenden **Görlsdor
 fer Wald**. Hier kann das eben im Film Gesehene in der Realität beobachte
 t werden.   \n \n  * **Wissensvermittlung:**  Naturführung und Filmbeitra
 g ergänzen sich ideal\, um Wissenswertes über die vielfältige Nachtfaun
 a und die Bedeutung des Artenschutzes im **Naturpark Niederlausitzer Landr
 ücken**  zu erfahren. \n\n\n\nDiese Kombination bietet eine seltene Geleg
 enheit\, die Insektenwelt der Lausitz sowohl aus der Perspektive eines Nat
 urfilmers als auch durch eigene Beobachtung kennenzulernen. \n\n**Veransta
 ltungsdetails**  \n\n  * **Treffpunkt:**  Heinz Sielmann Natur-Erlebniszen
 trum Wanninchen (Vortragsraum & Außengelände) \n\n\n\n**​Hier wird der
  Anfahrtsweg beschrieben:** https://www.wanninchen.de/besuch-planen/auf-ei
 nen-blick  \n**Link zu Google Maps:** https://maps.app.goo.gl/1dvRbtkvTHRy
 9n3n8\n\n  * **Zielgruppe:**  Erwachsene und Jugendliche ab 12 Jahren   \n
  \n  * **​Referent:**  Lennert Piltz (Naturfilmer) & Team Wanninchen   \
 n \n  * **Teilnahmegebühr:**  15 €   \n \n  * **Anmeldung hier:   (**be
 grenzte Platzkapazität)\n\n\n\nTelefonnummer: +49 (0)5527 / 914-341  \nE-
 Mail Adresse: wanninchen@sielmann-stiftung.de  \n \n\n**Hinweis:**  Für d
 en Exkursionsteil werden festes Schuhwerk und wettergerechte Kleidung empf
 ohlen. Bitte bringen Sie für den Rückweg eine eigene Taschenlampe mit. \
 n\nDiese Maßnahme wird durch das Ministerium für Landwirtschaft\, Umwelt
  und Klimaschutz (MLUK) des Landes Brandenburg gefördert.\n\nKontakt:\n\n
 Heinz Sielmann Natur-Erlebniszentrum Wanninchen\nWanninchen 1\n15926 Lucka
 u\nTelefon: +49 5527 914341\nEmail: wanninchen@sielmann-stiftung.de\n\nWei
 tere Informationen zur Veranstaltung: http://test.reiseregion-flaeming.de/
 veranstaltung/spreewald/filmvortrag-und-wanderung-zu-den-gluehwuermchen
CATEGORIES:Kinder und Jugendliche,Film,Führung / Besichtigung
DTSTAMP:20260421T104033Z
END:VEVENT
END:VCALENDAR