BEGIN:VCALENDAR
VERSION:2.0
PRODID:test.reiseregion-flaeming.de
BEGIN:VEVENT
UID:69e79833dd71b
DTSTART:20260502T090000Z
SEQUENCE:0
TRANSP:OPAQUE
DTEND:20260502T150000Z
URL:http://test.reiseregion-flaeming.de/veranstaltung/spreewald/zeitreise-i
 ns-slawische-mittelalter-saisonauftakt-stary-lud
LOCATION:Heimatmuseum Dissen\, Hauptstraße 32\, 03096 Dissen-Striesow
X-APPLE-STRUCTURED-LOCATION;VALUE=URI;X-ADDRESS="Heimatmuseum Dissen, Haupt
 straße 32, 03096 Dissen-Striesow";X-APPLE-RADIUS=49;X-TITLE=Heimatmuseum 
 Dissen:geo:14.290840,51.826409
GEO:14.290840;51.826409
SUMMARY:Zeitreise ins slawische Mittelalter - Saisonauftakt Stary lud
CLASS:PUBLIC
DESCRIPTION:Nur wenige Schritte bringen die Besucher mehr als 1000 Jahre zu
 rück in eine Zeit\, in der das Feuer noch mit Feuerstahl und Feuerstein e
 ntzündet\, wo die Spindel tanzte und die Wolle noch selbst gefärbt wurde
 . Es werden Einblicke in die alten Handwerkskünste\, wie das Schmieden\, 
 die Holzverarbeitung und die Schmuckherstellung\, gegeben. Der interessier
 te Gast kann Techniken des mittelalterlichen Handwerks hautnah erfahren un
 d den Akteuren über die Schulter schauen. Musik auf historischen Instrume
 nten gibt eine Vorstellung der Klangwelt des Mittelalters. Natürlich werd
 en die Instrumente auch vorgestellt. Krieger zeigen in kleinen Kampfszenen
 \, wie körperlich schwer das Kriegshandwerk im Mittelalter gewesen war.\n
 \nKontakt:\n\nHeimatmuseum Dissen\nFrau Zenker\nHauptstraße 32\n03096 Dis
 sen-Striesow\nTelefon: +49 35606 256\nEmail: heimatmuseum@dissen-spreewald
 .de\nWebseite: http://www.heimatmuseum-dissen-spreewald.de\n\nWeitere Info
 rmationen zur Veranstaltung: http://test.reiseregion-flaeming.de/veranstal
 tung/spreewald/zeitreise-ins-slawische-mittelalter-saisonauftakt-stary-lud
CATEGORIES:Fest / Brauchtum,Ausstellung
DTSTAMP:20260421T153059Z
END:VEVENT
BEGIN:VEVENT
UID:69e79833df80a
DTSTART:20260503T090000Z
SEQUENCE:0
TRANSP:OPAQUE
DTEND:20260503T150000Z
URL:http://test.reiseregion-flaeming.de/veranstaltung/spreewald/zeitreise-i
 ns-slawische-mittelalter-saisonauftakt-stary-lud
LOCATION:Heimatmuseum Dissen\, Hauptstraße 32\, 03096 Dissen-Striesow
X-APPLE-STRUCTURED-LOCATION;VALUE=URI;X-ADDRESS="Heimatmuseum Dissen, Haupt
 straße 32, 03096 Dissen-Striesow";X-APPLE-RADIUS=49;X-TITLE=Heimatmuseum 
 Dissen:geo:14.290840,51.826409
GEO:14.290840;51.826409
SUMMARY:Zeitreise ins slawische Mittelalter - Saisonauftakt Stary lud
CLASS:PUBLIC
DESCRIPTION:Nur wenige Schritte bringen die Besucher mehr als 1000 Jahre zu
 rück in eine Zeit\, in der das Feuer noch mit Feuerstahl und Feuerstein e
 ntzündet\, wo die Spindel tanzte und die Wolle noch selbst gefärbt wurde
 . Es werden Einblicke in die alten Handwerkskünste\, wie das Schmieden\, 
 die Holzverarbeitung und die Schmuckherstellung\, gegeben. Der interessier
 te Gast kann Techniken des mittelalterlichen Handwerks hautnah erfahren un
 d den Akteuren über die Schulter schauen. Musik auf historischen Instrume
 nten gibt eine Vorstellung der Klangwelt des Mittelalters. Natürlich werd
 en die Instrumente auch vorgestellt. Krieger zeigen in kleinen Kampfszenen
 \, wie körperlich schwer das Kriegshandwerk im Mittelalter gewesen war.\n
 \nKontakt:\n\nHeimatmuseum Dissen\nFrau Zenker\nHauptstraße 32\n03096 Dis
 sen-Striesow\nTelefon: +49 35606 256\nEmail: heimatmuseum@dissen-spreewald
 .de\nWebseite: http://www.heimatmuseum-dissen-spreewald.de\n\nWeitere Info
 rmationen zur Veranstaltung: http://test.reiseregion-flaeming.de/veranstal
 tung/spreewald/zeitreise-ins-slawische-mittelalter-saisonauftakt-stary-lud
CATEGORIES:Fest / Brauchtum,Ausstellung
DTSTAMP:20260421T153059Z
END:VEVENT
END:VCALENDAR