BEGIN:VCALENDAR
VERSION:2.0
PRODID:test.reiseregion-flaeming.de
BEGIN:VEVENT
UID:69e7881b01bcd
DTSTART:20261003T090000Z
SEQUENCE:0
TRANSP:OPAQUE
DTEND:20261003T150000Z
URL:http://test.reiseregion-flaeming.de/veranstaltung/spreewald/historische
 s-handwerker-und-kriegerwochenende
LOCATION:Heimatmuseum Dissen\, Hauptstraße 32\, 03096 Dissen-Striesow
X-APPLE-STRUCTURED-LOCATION;VALUE=URI;X-ADDRESS="Heimatmuseum Dissen, Haupt
 straße 32, 03096 Dissen-Striesow";X-APPLE-RADIUS=49;X-TITLE=Heimatmuseum 
 Dissen:geo:14.290840,51.826409
GEO:14.290840;51.826409
SUMMARY:Historisches Handwerker- und Kriegerwochenende
CLASS:PUBLIC
DESCRIPTION:Nur wenige Schritte bringen die Besucher mehr als 1000 Jahre zu
 rück in eine Zeit\, in der das Feuer noch mit Feuerstahl und Feuerstein e
 ntzündet\, wo die Spindel tanzte und die Wolle noch selbst gefärbt wurde
 . Es werden Einblicke in die alten Handwerkskünste\, wie das Schmieden\, 
 die Holzverarbeitung und die Schmuckherstellung\, gegeben. Der interessier
 te Gast kann Techniken des mittelalterlichen Handwerks hautnah erfahren un
 d den Akteuren über die Schulter schauen So kann man das Klopfen des Holz
 handwerkers hören\, den Spinnwirtel tanzen sehen\, den Färbern über die
  Schulter schauen und viele weitere Handwerker erleben. Krieger zeigen in 
 kleinen Kampfszenen\, wie körperlich schwer das Kriegshandwerk im Mittela
 lter gewesen war. In einer kleinen schau wird auch die Kleidung der damali
 gen Zeit erklärt.\n\nKontakt:\n\nHeimatmuseum Dissen\nFrau Zenker\nHaupts
 traße 32\n03096 Dissen-Striesow\nTelefon: +49 35606 256\nEmail: heimatmus
 eum@dissen-spreewald.de\nWebseite: http://www.heimatmuseum-dissen-spreewal
 d.de\n\nWeitere Informationen zur Veranstaltung: http://test.reiseregion-f
 laeming.de/veranstaltung/spreewald/historisches-handwerker-und-kriegerwoch
 enende
CATEGORIES:Theater / Tanz / Kabarett,Fest / Brauchtum,Ausstellung
DTSTAMP:20260421T142219Z
END:VEVENT
BEGIN:VEVENT
UID:69e7881b0e26a
DTSTART:20261004T090000Z
SEQUENCE:0
TRANSP:OPAQUE
DTEND:20261004T150000Z
URL:http://test.reiseregion-flaeming.de/veranstaltung/spreewald/historische
 s-handwerker-und-kriegerwochenende
LOCATION:Heimatmuseum Dissen\, Hauptstraße 32\, 03096 Dissen-Striesow
X-APPLE-STRUCTURED-LOCATION;VALUE=URI;X-ADDRESS="Heimatmuseum Dissen, Haupt
 straße 32, 03096 Dissen-Striesow";X-APPLE-RADIUS=49;X-TITLE=Heimatmuseum 
 Dissen:geo:14.290840,51.826409
GEO:14.290840;51.826409
SUMMARY:Historisches Handwerker- und Kriegerwochenende
CLASS:PUBLIC
DESCRIPTION:Nur wenige Schritte bringen die Besucher mehr als 1000 Jahre zu
 rück in eine Zeit\, in der das Feuer noch mit Feuerstahl und Feuerstein e
 ntzündet\, wo die Spindel tanzte und die Wolle noch selbst gefärbt wurde
 . Es werden Einblicke in die alten Handwerkskünste\, wie das Schmieden\, 
 die Holzverarbeitung und die Schmuckherstellung\, gegeben. Der interessier
 te Gast kann Techniken des mittelalterlichen Handwerks hautnah erfahren un
 d den Akteuren über die Schulter schauen So kann man das Klopfen des Holz
 handwerkers hören\, den Spinnwirtel tanzen sehen\, den Färbern über die
  Schulter schauen und viele weitere Handwerker erleben. Krieger zeigen in 
 kleinen Kampfszenen\, wie körperlich schwer das Kriegshandwerk im Mittela
 lter gewesen war. In einer kleinen schau wird auch die Kleidung der damali
 gen Zeit erklärt.\n\nKontakt:\n\nHeimatmuseum Dissen\nFrau Zenker\nHaupts
 traße 32\n03096 Dissen-Striesow\nTelefon: +49 35606 256\nEmail: heimatmus
 eum@dissen-spreewald.de\nWebseite: http://www.heimatmuseum-dissen-spreewal
 d.de\n\nWeitere Informationen zur Veranstaltung: http://test.reiseregion-f
 laeming.de/veranstaltung/spreewald/historisches-handwerker-und-kriegerwoch
 enende
CATEGORIES:Theater / Tanz / Kabarett,Fest / Brauchtum,Ausstellung
DTSTAMP:20260421T142219Z
END:VEVENT
END:VCALENDAR