BEGIN:VCALENDAR
VERSION:2.0
PRODID:test.reiseregion-flaeming.de
BEGIN:VEVENT
UID:69e5f4d788cd4
DTSTART:20260919T163000Z
SEQUENCE:0
TRANSP:OPAQUE
DTEND:20260919T183000Z
URL:http://test.reiseregion-flaeming.de/veranstaltung/uckermark/kabarett-mi
 t-lutz-michael-ranz-in-der-bluete-meiner-abnutzung
LOCATION:Bürgergarten Haus Uckermark\, Hoher Steinweg 17/18\, 16278 Angerm
 ünde
X-APPLE-STRUCTURED-LOCATION;VALUE=URI;X-ADDRESS="Bürgergarten Haus Uckerma
 rk, Hoher Steinweg 17/18, 16278 Angermünde";X-APPLE-RADIUS=49;X-TITLE=Bü
 rgergarten Haus Uckermark:geo:14.003352,53.018294
GEO:14.003352;53.018294
SUMMARY:Kabarett mit Lutz-Michael Ranz „In der Blüte meiner Abnutzung“
CLASS:PUBLIC
DESCRIPTION:Er ist ein Schauspieler\, der Kabarett macht\, ein Comedian der
  schauspielert\, ein Kabarettist\, der Spaß an der Comedy hat\, ein Comed
 y spielender Kabarettist\, ein kabarettistischer Comedian-Schauspieler\, e
 in schauspielkabarettistischer Comedian\, ein lustiger Schau-Comerettist- 
 und das nicht nur\, weil er es an der Schauspielschule gelernt hat\, sonde
 rn weil es ihm einen Heidenspaß macht\, Spaß daran zu haben\, den andere
 n großen  \nSpaß zu bereiten.\n\nKontakt:\n\nTourismusverein Angermünde
  e.V.\nHoher Steinweg 17 /18\n16278 Angermünde\nTelefon: +49 3331 297660\
 nEmail: info@angermuende-tourismus.de\nWebseite: https://www.angermuende-t
 ourismus.de/\n\nWeitere Informationen zur Veranstaltung: http://test.reise
 region-flaeming.de/veranstaltung/uckermark/kabarett-mit-lutz-michael-ranz-
 in-der-bluete-meiner-abnutzung
CATEGORIES:Theater / Tanz / Kabarett
DTSTAMP:20260420T094143Z
END:VEVENT
END:VCALENDAR