BEGIN:VCALENDAR
VERSION:2.0
PRODID:test.reiseregion-flaeming.de
BEGIN:VEVENT
UID:69e77cc6f2d2c
DTSTART:20260704T090000Z
SEQUENCE:0
TRANSP:OPAQUE
DTEND:20260704T150000Z
URL:http://test.reiseregion-flaeming.de/veranstaltung/spreewald/6-slawische
 s-maerchenfestival
LOCATION:Heimatmuseum Dissen\, Hauptstraße 32\, 03096 Dissen-Striesow
X-APPLE-STRUCTURED-LOCATION;VALUE=URI;X-ADDRESS="Heimatmuseum Dissen, Haupt
 straße 32, 03096 Dissen-Striesow";X-APPLE-RADIUS=49;X-TITLE=Heimatmuseum 
 Dissen:geo:14.290840,51.826409
GEO:14.290840;51.826409
SUMMARY:6. Slawisches Märchenfestival
CLASS:PUBLIC
DESCRIPTION:Alle großen und kleinen Märchenfans kommen hier auf Ihre Kost
 en. 1 Erzähltheater\, ein Puppentheater\, Märchenerzähler verführen di
 e Gäste in die Welt der Slawischen Märchen\, egal ob sorbische\, tschech
 ische oder polnische Märchen und Sagen\, die fast immer in deutscher Spra
 che\, aber manchmal auch in Sorbisch erklingen. Hier taucht jeder in seine
 r Fantasie in diese Zauberwelt ein. Es ist ein Fest für die ganze Familie
  die auf diesem Gelände einen ganzen Tag verbringen können\, denn wir la
 den zu historischen Kinderspielen ein\, Märchenfiguren können gebastelt 
 werden und man kann sich selbst in eine Märchen- und Sagenfigur verwandel
 n.\n\nKontakt:\n\nHeimatmuseum Dissen\nFrau Zenker\nHauptstraße 32\n03096
  Dissen-Striesow\nTelefon: +49 35606 256\nEmail: heimatmuseum@dissen-spree
 wald.de\nWebseite: http://www.heimatmuseum-dissen-spreewald.de\n\nWeitere 
 Informationen zur Veranstaltung: http://test.reiseregion-flaeming.de/veran
 staltung/spreewald/6-slawisches-maerchenfestival
CATEGORIES:Fest / Brauchtum,Ausstellung
DTSTAMP:20260421T133359Z
END:VEVENT
BEGIN:VEVENT
UID:69e77cc70030a
DTSTART:20260705T090000Z
SEQUENCE:0
TRANSP:OPAQUE
DTEND:20260705T150000Z
URL:http://test.reiseregion-flaeming.de/veranstaltung/spreewald/6-slawische
 s-maerchenfestival
LOCATION:Heimatmuseum Dissen\, Hauptstraße 32\, 03096 Dissen-Striesow
X-APPLE-STRUCTURED-LOCATION;VALUE=URI;X-ADDRESS="Heimatmuseum Dissen, Haupt
 straße 32, 03096 Dissen-Striesow";X-APPLE-RADIUS=49;X-TITLE=Heimatmuseum 
 Dissen:geo:14.290840,51.826409
GEO:14.290840;51.826409
SUMMARY:6. Slawisches Märchenfestival
CLASS:PUBLIC
DESCRIPTION:Alle großen und kleinen Märchenfans kommen hier auf Ihre Kost
 en. 1 Erzähltheater\, ein Puppentheater\, Märchenerzähler verführen di
 e Gäste in die Welt der Slawischen Märchen\, egal ob sorbische\, tschech
 ische oder polnische Märchen und Sagen\, die fast immer in deutscher Spra
 che\, aber manchmal auch in Sorbisch erklingen. Hier taucht jeder in seine
 r Fantasie in diese Zauberwelt ein. Es ist ein Fest für die ganze Familie
  die auf diesem Gelände einen ganzen Tag verbringen können\, denn wir la
 den zu historischen Kinderspielen ein\, Märchenfiguren können gebastelt 
 werden und man kann sich selbst in eine Märchen- und Sagenfigur verwandel
 n.\n\nKontakt:\n\nHeimatmuseum Dissen\nFrau Zenker\nHauptstraße 32\n03096
  Dissen-Striesow\nTelefon: +49 35606 256\nEmail: heimatmuseum@dissen-spree
 wald.de\nWebseite: http://www.heimatmuseum-dissen-spreewald.de\n\nWeitere 
 Informationen zur Veranstaltung: http://test.reiseregion-flaeming.de/veran
 staltung/spreewald/6-slawisches-maerchenfestival
CATEGORIES:Fest / Brauchtum,Ausstellung
DTSTAMP:20260421T133359Z
END:VEVENT
END:VCALENDAR