BEGIN:VCALENDAR
VERSION:2.0
PRODID:test.reiseregion-flaeming.de
BEGIN:VEVENT
UID:69e7c0996a17f
DTSTART:20260919T150000Z
SEQUENCE:0
TRANSP:OPAQUE
DTEND:20260919T210000Z
URL:http://test.reiseregion-flaeming.de/veranstaltung/seenland-oder-spree/p
 yrogames-2026
LOCATION:Museumspark Rüdersdorf\, Heinitzstraße 9\, 15562 Rüdersdorf bei
  Berlin
X-APPLE-STRUCTURED-LOCATION;VALUE=URI;X-ADDRESS="Museumspark Rüdersdorf, H
 einitzstraße 9, 15562 Rüdersdorf bei Berlin";X-APPLE-RADIUS=49;X-TITLE=M
 useumspark Rüdersdorf:geo:13.778054,52.475864
GEO:13.778054;52.475864
SUMMARY:Pyrogames 2026
CLASS:PUBLIC
DESCRIPTION:Am 19. September 2026 wartet ein Pyro-Spektakel mit glitzernden
  Sternen\, leuchtenden Kometen\n\nund in den nachtblauen Himmel wachsenden
  Feuerwerksblüten auf die Besucher. Faszination\n\nFeuerwerk in seiner sc
 hönsten Effektvielfalt erleuchtet den Museumspark in Rüdersdorf.\n\nDeut
 schlandweit stellen sich gleich drei Pyroprofis mit ihren Teams dem Kampf 
 um die goldene\n\nTrophäe der Feuerwerkskunst und lassen mit ihren fessel
 nden Darbietungen den Abendhimmel in\n\nallen Regenbogenfarben leuchten. S
 ie sorgen für spektakuläre Feuerwerkschoreografien vor einer\n\neinzigar
 tigen Kulisse. Sensationelle Pyro-Effekte\, eine außergewöhnliche Brilla
 nz und die\n\nLeuchtkraft der Farben in perfekter Abstimmung zur Musik wer
 den das Publikum begeistern. Das\n\nPublikum entscheidet am Ende des Abend
 s\, wer im Duell der Feuerwerker den Kampf für sich\n\nentscheiden konnte
  und die Siegertrophäe sein Eigen nennen darf.  \n \n\nTickets für den f
 abelhaften Wettstreit der Pyrotechniker erhalten Interessierte online auf 
 [_www.pyrogames.de_](https://pyrogames.de/termine/museumspark-ruedersdorf/
 ).\n\n  \n \n\nVeranstalter: Pyrogames\n\nKontakt:\n\nTHF Events\nHarsdorf
 er Berg 31\n39110 Magdeburg\nTelefon: +49 151 21085103\nEmail: \n\nWeitere
  Informationen zur Veranstaltung: http://test.reiseregion-flaeming.de/vera
 nstaltung/seenland-oder-spree/pyrogames-2026
CATEGORIES:Theater / Tanz / Kabarett
DTSTAMP:20260421T182321Z
END:VEVENT
END:VCALENDAR