BEGIN:VCALENDAR
VERSION:2.0
PRODID:test.reiseregion-flaeming.de
BEGIN:VEVENT
UID:69e7881b32ef0
DTSTART:20260607T090000Z
SEQUENCE:0
TRANSP:OPAQUE
DTEND:20260607T150000Z
URL:http://test.reiseregion-flaeming.de/veranstaltung/spreewald/kunstgarten
 festival-kuenstler-unter-freiem-himmel
LOCATION:Heimatmuseum Dissen\, Hauptstraße 32\, 03096 Dissen-Striesow
X-APPLE-STRUCTURED-LOCATION;VALUE=URI;X-ADDRESS="Heimatmuseum Dissen, Haupt
 straße 32, 03096 Dissen-Striesow";X-APPLE-RADIUS=49;X-TITLE=Heimatmuseum 
 Dissen:geo:14.290840,51.826409
GEO:14.290840;51.826409
SUMMARY:Kunstgartenfestival - Künstler unter freiem Himmel
CLASS:PUBLIC
DESCRIPTION:Zum Kunstgartenfest in Dissen gibt es die besondere Möglichkei
 t\, Künstlern der verschiedensten Genres beim Arbeiten über die Schulter
  zu schauen. Auf unserer Museumswiese zeigen Maler\, Fotografen\, Textilk
 ünstler aber auch Musiker ihr Können. In einem Pleinair der Schule für 
 niedersorbische Sprache und Kultur\, unter der Leitung von Gabriele Gittel
 \, entstehen Aquarelle\, Zeichnungen und kleinere Arbeiten. Die Künstler 
 finden Sie unter alten hohen Bäumen hinter der Kirche\, im Museumsgarten 
 und in der mittelalterlichen Siedlung \"Stary lud“. Schauen Sie den Kuns
 tschaffenden bei der Arbeit\, ihre Motivwahl und dem Schaffensprozess übe
 r die Schulter und kommen sie mit ihnen ins Gespräch. Es werden Schmuck\,
  Aquarelle\, Ölbilder\, Textilarbeiten und viele andere schöne Dinge zum
  Kauf angeboten.\n\nKontakt:\n\nHeimatmuseum Dissen\nBabett Zenker\nHaupts
 traße 32\n03096 Dissen-Striesow\nTelefon: +49 35606 256\nEmail: heimatmus
 eum@dissen-spreewald.de\nWebseite: http://www.heimatmuseum-dissen-spreewal
 d.de\n\nWeitere Informationen zur Veranstaltung: http://test.reiseregion-f
 laeming.de/veranstaltung/spreewald/kunstgartenfestival-kuenstler-unter-fre
 iem-himmel
CATEGORIES:Ausstellung,Chor / Folklore / Volksmusik
DTSTAMP:20260421T142219Z
END:VEVENT
BEGIN:VEVENT
UID:69e7881b4536a
DTSTART:20260606T090000Z
SEQUENCE:0
TRANSP:OPAQUE
DTEND:20260606T150000Z
URL:http://test.reiseregion-flaeming.de/veranstaltung/spreewald/kunstgarten
 festival-kuenstler-unter-freiem-himmel
LOCATION:Heimatmuseum Dissen\, Hauptstraße 32\, 03096 Dissen-Striesow
X-APPLE-STRUCTURED-LOCATION;VALUE=URI;X-ADDRESS="Heimatmuseum Dissen, Haupt
 straße 32, 03096 Dissen-Striesow";X-APPLE-RADIUS=49;X-TITLE=Heimatmuseum 
 Dissen:geo:14.290840,51.826409
GEO:14.290840;51.826409
SUMMARY:Kunstgartenfestival - Künstler unter freiem Himmel
CLASS:PUBLIC
DESCRIPTION:Zum Kunstgartenfest in Dissen gibt es die besondere Möglichkei
 t\, Künstlern der verschiedensten Genres beim Arbeiten über die Schulter
  zu schauen. Auf unserer Museumswiese zeigen Maler\, Fotografen\, Textilk
 ünstler aber auch Musiker ihr Können. In einem Pleinair der Schule für 
 niedersorbische Sprache und Kultur\, unter der Leitung von Gabriele Gittel
 \, entstehen Aquarelle\, Zeichnungen und kleinere Arbeiten. Die Künstler 
 finden Sie unter alten hohen Bäumen hinter der Kirche\, im Museumsgarten 
 und in der mittelalterlichen Siedlung \"Stary lud“. Schauen Sie den Kuns
 tschaffenden bei der Arbeit\, ihre Motivwahl und dem Schaffensprozess übe
 r die Schulter und kommen sie mit ihnen ins Gespräch. Es werden Schmuck\,
  Aquarelle\, Ölbilder\, Textilarbeiten und viele andere schöne Dinge zum
  Kauf angeboten.\n\nKontakt:\n\nHeimatmuseum Dissen\nBabett Zenker\nHaupts
 traße 32\n03096 Dissen-Striesow\nTelefon: +49 35606 256\nEmail: heimatmus
 eum@dissen-spreewald.de\nWebseite: http://www.heimatmuseum-dissen-spreewal
 d.de\n\nWeitere Informationen zur Veranstaltung: http://test.reiseregion-f
 laeming.de/veranstaltung/spreewald/kunstgartenfestival-kuenstler-unter-fre
 iem-himmel
CATEGORIES:Ausstellung,Chor / Folklore / Volksmusik
DTSTAMP:20260421T142219Z
END:VEVENT
END:VCALENDAR