BEGIN:VCALENDAR
VERSION:2.0
PRODID:test.reiseregion-flaeming.de
BEGIN:VEVENT
UID:69e75a3c39efe
DTSTART:20261106T170000Z
SEQUENCE:0
TRANSP:OPAQUE
DTEND:20261106T200000Z
URL:http://test.reiseregion-flaeming.de/veranstaltung/seenland-oder-spree/s
 tudio-live-ad-der-besondere-abend
LOCATION:Alte Dampfbäckerei\, Kirchstraße 1\, 15306 Seelow
X-APPLE-STRUCTURED-LOCATION;VALUE=URI;X-ADDRESS="Alte Dampfbäckerei, Kirch
 straße 1, 15306 Seelow";X-APPLE-RADIUS=49;X-TITLE=Alte Dampfbäckerei:geo
 :14.379964,52.533249
GEO:14.379964;52.533249
SUMMARY:Studio Live \"AD\"- der Besondere Abend
CLASS:PUBLIC
DESCRIPTION:Gäste sind : Peggy Braun \, Prof. Dr. Dannecker\, Hans Peter v
 on Kirchbach\n\nMusikalische Begleitung\n\nHaustypischer Imbiss\n\nKontakt
 :\n\nAlte Dampfbäckerei Seelow e.V.\nKirchstraße 1\n15306 Seelow (Seenla
 nd Oder-Spree)\nTelefon: +49 3346 80002\nEmail: altedampfbaeckerei@web.de\
 n\nWeitere Informationen zur Veranstaltung: http://test.reiseregion-flaemi
 ng.de/veranstaltung/seenland-oder-spree/studio-live-ad-der-besondere-abend
CATEGORIES:Lesung / Vortrag
DTSTAMP:20260421T110636Z
END:VEVENT
END:VCALENDAR