BEGIN:VCALENDAR
VERSION:2.0
PRODID:test.reiseregion-flaeming.de
BEGIN:VEVENT
UID:69e78424f140a
DTSTART:20261129T140000Z
SEQUENCE:0
TRANSP:OPAQUE
DTEND:20261129T170000Z
URL:http://test.reiseregion-flaeming.de/veranstaltung/seenland-oder-spree/3
 2-keramikaustellung-zum-1-advent
LOCATION:Alte Dampfbäckerei\, Kirchstraße 1\, 15306 Seelow
X-APPLE-STRUCTURED-LOCATION;VALUE=URI;X-ADDRESS="Alte Dampfbäckerei, Kirch
 straße 1, 15306 Seelow";X-APPLE-RADIUS=49;X-TITLE=Alte Dampfbäckerei:geo
 :14.379964,52.533249
GEO:14.379964;52.533249
SUMMARY:32. Keramikaustellung zum 1. Advent
CLASS:PUBLIC
DESCRIPTION:Bei Kaffee und Kuchen\n\nKontakt:\n\nAlte Dampfbäckerei Seelow
  e.V.\nKirchstraße 1\n15306 Seelow (Seenland Oder-Spree)\nTelefon: +49 33
 46 80002\nEmail: altedampfbaeckerei@web.de\n\nWeitere Informationen zur Ve
 ranstaltung: http://test.reiseregion-flaeming.de/veranstaltung/seenland-od
 er-spree/32-keramikaustellung-zum-1-advent
CATEGORIES:Ausstellung
DTSTAMP:20260421T140525Z
END:VEVENT
END:VCALENDAR