BEGIN:VCALENDAR
VERSION:2.0
PRODID:test.reiseregion-flaeming.de
BEGIN:VEVENT
UID:69e7541978080
DTSTART:20261016T160000Z
SEQUENCE:0
TRANSP:OPAQUE
DTEND:20261016T173000Z
URL:http://test.reiseregion-flaeming.de/veranstaltung/spreewald/maerchenhaf
 tes-marokko-mit-dem-vw-bus-durch-das-koenigreich
LOCATION:Bibliothek Lübbenau\, Otto-Grotewohl-Straße 4b\, 03222 Lübbenau
 /Spreewald
X-APPLE-STRUCTURED-LOCATION;VALUE=URI;X-ADDRESS="Bibliothek Lübbenau, Otto
 -Grotewohl-Straße 4b, 03222 Lübbenau/Spreewald";X-APPLE-RADIUS=49;X-TITL
 E=Bibliothek Lübbenau:geo:13.942670,51.860116
GEO:13.942670;51.860116
SUMMARY:„Märchenhaftes Marokko“ mit dem VW-Bus durch das Königreich
CLASS:PUBLIC
DESCRIPTION:Anfang 2017 brachen Conny Schefter und Frank Moerke für 2 Mona
 te mit ihrem VW-Bus von Grünheide nach Marokko auf. Die Anreise führte 
 über Frankreich und Spanien. Von dort setzten sie mit der Fähre in das a
 frikanische Königreich über.  \nDer Weg führte sie durch das Rif-Gebirg
 e\, das für den Hanfanbau und Drogenhandel bekannt ist. Über die alte K
 önigstadt Fez und den Hohen Atlas\, den die beiden auf einer schmalen Pis
 te auf über 2.900 m Höhe überquerten\, fuhren sie weiter in die Sahara.
  Obwohl ihr VW-Bus keinen Allradantrieb besitzt\, umrundeten sie offroad d
 as Dünengebiet Erg Chebbi und erreichten auch Erg Chegaga. Die Sandbleche
  und Schaufel waren nicht umsonst an Bord. Erleben sie das Abenteuer der B
 eiden an diesem Abend.\n\nKontakt:\n\nBibliothek Lübbenau-Vetschau\nOtto-
 Grotewohl-Straße  4b\n03222 Lübbenau/Spreewald\nTelefon: +49 03542 87214
 50\nEmail: info@bibliothek-vetschau.de\n\nWeitere Informationen zur Verans
 taltung: http://test.reiseregion-flaeming.de/veranstaltung/spreewald/maerc
 henhaftes-marokko-mit-dem-vw-bus-durch-das-koenigreich
CATEGORIES:Lesung / Vortrag
DTSTAMP:20260421T104025Z
END:VEVENT
END:VCALENDAR