BEGIN:VCALENDAR
VERSION:2.0
PRODID:test.reiseregion-flaeming.de
BEGIN:VEVENT
UID:69e5f51a57bd3
DTSTART:20261030T130000Z
SEQUENCE:0
TRANSP:OPAQUE
DTEND:20261030T143000Z
URL:http://test.reiseregion-flaeming.de/veranstaltung/havelland/friedhofsfu
 ehrung
LOCATION:Heilig-Geist-Kirche in Werder (Havel)\, Kirchstraße 9\, 14542 Wer
 der (Havel)
X-APPLE-STRUCTURED-LOCATION;VALUE=URI;X-ADDRESS="Heilig-Geist-Kirche in Wer
 der (Havel), Kirchstraße 9, 14542 Werder (Havel)";X-APPLE-RADIUS=49;X-TIT
 LE=Heilig-Geist-Kirche in Werder (Havel):geo:12.944148,52.377338
GEO:12.944148;52.377338
SUMMARY:Friedhofsführung
CLASS:PUBLIC
DESCRIPTION:Friedhöfe sind Anlagen für die Ewigkeit\, aber auch „sprech
 ende“ Parks - nicht nur für Kulturinteressierte und Stille suchende. Es
  öffnet sich eine Geschichtsstunde zu lokalen Ereignissen und Persönlich
 keiten.\n\nKontakt:\n\nGilde der Stadtführer Werder (Havel) e.V.\nFrau Co
 nrad\nPostfach  1102\n14536 Werder (Havel)\nTelefon: +49 1511 0949620\nEma
 il: info@stadtfuehrer-werder.de\nWebseite: https://stadtfuehrer-werder.de/
 \n\nWeitere Informationen zur Veranstaltung: http://test.reiseregion-flaem
 ing.de/veranstaltung/havelland/friedhofsfuehrung
CATEGORIES:Führung / Besichtigung
DTSTAMP:20260420T094250Z
END:VEVENT
END:VCALENDAR