BEGIN:VCALENDAR
VERSION:2.0
PRODID:test.reiseregion-flaeming.de
BEGIN:VEVENT
UID:69e741db6f2f2
DTSTART:20261106T170000Z
SEQUENCE:0
TRANSP:OPAQUE
DTEND:20261106T183000Z
URL:http://test.reiseregion-flaeming.de/veranstaltung/spreewald/psalms-in-j
 azz
LOCATION:Evangelische Klosterkirche Cottbus\, Klosterplatz 1\, 03046 Cottbu
 s
X-APPLE-STRUCTURED-LOCATION;VALUE=URI;X-ADDRESS="Evangelische Klosterkirche
  Cottbus, Klosterplatz 1, 03046 Cottbus";X-APPLE-RADIUS=49;X-TITLE=Evangel
 ische Klosterkirche Cottbus:geo:14.333223,51.761712
GEO:14.333223;51.761712
SUMMARY:Psalms in Jazz
CLASS:PUBLIC
DESCRIPTION:Konzert in der Klosterkirche Cottbus\, auch Wendische Kirche ge
 nannt.\n\nDuo ZIA: Marcus Rust (Trompete)\, Christian Grosch (Orgel)\n\nKo
 ntakt:\n\nCottbus Service\nBerliner Platz 6\n03046 Cottbus\nTelefon: +49 3
 55 7542444\nEmail: \n\nWeitere Informationen zur Veranstaltung: http://tes
 t.reiseregion-flaeming.de/veranstaltung/spreewald/psalms-in-jazz
CATEGORIES:Rock / Pop / Jazz
DTSTAMP:20260421T092235Z
END:VEVENT
END:VCALENDAR