BEGIN:VCALENDAR
VERSION:2.0
PRODID:test.reiseregion-flaeming.de
BEGIN:VEVENT
UID:69e748000b4eb
DTSTART:20260829T150000Z
SEQUENCE:0
TRANSP:OPAQUE
DTEND:20260829T190000Z
URL:http://test.reiseregion-flaeming.de/veranstaltung/elbe-elster-land/somm
 erfest-mit-freiluftkino
LOCATION:Pomologischer Schau- und Lehrgarten Döllingen\, An der Umgehungss
 traße\, 04928 Döllingen
X-APPLE-STRUCTURED-LOCATION;VALUE=URI;X-ADDRESS="Pomologischer Schau- und L
 ehrgarten Döllingen, An der Umgehungsstraße, 04928 Döllingen";X-APPLE-R
 ADIUS=49;X-TITLE=Pomologischer Schau- und Lehrgarten Döllingen:geo:13.583
 813,51.482870
GEO:13.583813;51.482870
SUMMARY:Sommerfest mit Freiluftkino
CLASS:PUBLIC
DESCRIPTION:Der Verein Kerngehäuse lädt Sie zum Sommerfest unter Obstbäu
 men ein. Genießen Sie bei Musik und Kaffee und Kuchen den Tag und lassen 
 ihn mit einer Filmvorführung im Pomologischen Garten ausklingen.\n\nKonta
 kt:\n\nKerngehäuse e.V.\nAn der Umgehungsstraße\n04928 Döllingen\nTelef
 on: +49 035341 615-12\nEmail: \n\nWeitere Informationen zur Veranstaltung:
  http://test.reiseregion-flaeming.de/veranstaltung/elbe-elster-land/sommer
 fest-mit-freiluftkino
CATEGORIES:Fest / Brauchtum
DTSTAMP:20260421T094848Z
END:VEVENT
END:VCALENDAR