BEGIN:VCALENDAR
VERSION:2.0
PRODID:test.reiseregion-flaeming.de
BEGIN:VEVENT
UID:69e759fa6c182
DTSTART:20260504T153000Z
SEQUENCE:0
TRANSP:OPAQUE
DTEND:20260504T180000Z
URL:http://test.reiseregion-flaeming.de/veranstaltung/lausitzer-seenland/to
 epferkurs-fuer-erwachsene
LOCATION:TREFF 1\, Schloßstraße  1\, 02943 Boxberg OL
X-APPLE-STRUCTURED-LOCATION;VALUE=URI;X-ADDRESS="TREFF 1, Schloßstraße  1
 , 02943 Boxberg OL";X-APPLE-RADIUS=49;X-TITLE=TREFF 1:geo:14.510552,51.365
 487
GEO:14.510552;51.365487
SUMMARY:Töpferkurs für Erwachsene
CLASS:PUBLIC
DESCRIPTION:Kreative Auszeit!\n\nRaus aus dem Kopf\, rein in den Ton. Ersch
 affe deine eigenen Unikate und genieße entspannte Stunden in geselliger R
 unde.\n\nKontakt:\n\nUhyster Heimatverein e.V.\nKirsten Knobloch\nHauptstr
 aße 20 A\n02943 Boxberg OL\nTelefon: +49 171 3157205\nEmail: heimatverein
 @uhyst.de\nWebseite: https://uhyst.de/\n\nWeitere Informationen zur Verans
 taltung: http://test.reiseregion-flaeming.de/veranstaltung/lausitzer-seenl
 and/toepferkurs-fuer-erwachsene
CATEGORIES:Workshop / Seminar
DTSTAMP:20260421T110530Z
END:VEVENT
BEGIN:VEVENT
UID:69e759fa6f8bc
DTSTART:20260505T153000Z
SEQUENCE:0
TRANSP:OPAQUE
DTEND:20260505T180000Z
URL:http://test.reiseregion-flaeming.de/veranstaltung/lausitzer-seenland/to
 epferkurs-fuer-erwachsene
LOCATION:TREFF 1\, Schloßstraße  1\, 02943 Boxberg OL
X-APPLE-STRUCTURED-LOCATION;VALUE=URI;X-ADDRESS="TREFF 1, Schloßstraße  1
 , 02943 Boxberg OL";X-APPLE-RADIUS=49;X-TITLE=TREFF 1:geo:14.510552,51.365
 487
GEO:14.510552;51.365487
SUMMARY:Töpferkurs für Erwachsene
CLASS:PUBLIC
DESCRIPTION:Kreative Auszeit!\n\nRaus aus dem Kopf\, rein in den Ton. Ersch
 affe deine eigenen Unikate und genieße entspannte Stunden in geselliger R
 unde.\n\nKontakt:\n\nUhyster Heimatverein e.V.\nKirsten Knobloch\nHauptstr
 aße 20 A\n02943 Boxberg OL\nTelefon: +49 171 3157205\nEmail: heimatverein
 @uhyst.de\nWebseite: https://uhyst.de/\n\nWeitere Informationen zur Verans
 taltung: http://test.reiseregion-flaeming.de/veranstaltung/lausitzer-seenl
 and/toepferkurs-fuer-erwachsene
CATEGORIES:Workshop / Seminar
DTSTAMP:20260421T110530Z
END:VEVENT
END:VCALENDAR