BEGIN:VCALENDAR
VERSION:2.0
PRODID:test.reiseregion-flaeming.de
BEGIN:VEVENT
UID:69e76bc25409e
DTSTART:20260504T143000Z
SEQUENCE:0
TRANSP:OPAQUE
DTEND:20260504T153000Z
URL:http://test.reiseregion-flaeming.de/veranstaltung/lausitzer-seenland/to
 epferkurs-fuer-kinder
LOCATION:TREFF 1\, Schloßstraße  1\, 02943 Boxberg OL
X-APPLE-STRUCTURED-LOCATION;VALUE=URI;X-ADDRESS="TREFF 1, Schloßstraße  1
 , 02943 Boxberg OL";X-APPLE-RADIUS=49;X-TITLE=TREFF 1:geo:14.510552,51.365
 487
GEO:14.510552;51.365487
SUMMARY:Töpferkurs für Kinder
CLASS:PUBLIC
DESCRIPTION:Ton - Abenteuer:\n\nTöpferkurs für Kids!\n\nWerde zum Ton-Kü
 nstler und lass deiner Fantasie freien Lauf!\n\nKontakt:\n\nUhyster Heimat
 verein e.V.\nKirsten Knobloch\nHauptstraße 20 A\n02943 Boxberg OL\nTelefo
 n: +49 171 3157205\nEmail: heimatverein@uhyst.de\nWebseite: https://uhyst.
 de/\n\nWeitere Informationen zur Veranstaltung: http://test.reiseregion-fl
 aeming.de/veranstaltung/lausitzer-seenland/toepferkurs-fuer-kinder
CATEGORIES:Workshop / Seminar
DTSTAMP:20260421T122122Z
END:VEVENT
BEGIN:VEVENT
UID:69e76bc25686c
DTSTART:20260505T143000Z
SEQUENCE:0
TRANSP:OPAQUE
DTEND:20260505T153000Z
URL:http://test.reiseregion-flaeming.de/veranstaltung/lausitzer-seenland/to
 epferkurs-fuer-kinder
LOCATION:TREFF 1\, Schloßstraße  1\, 02943 Boxberg OL
X-APPLE-STRUCTURED-LOCATION;VALUE=URI;X-ADDRESS="TREFF 1, Schloßstraße  1
 , 02943 Boxberg OL";X-APPLE-RADIUS=49;X-TITLE=TREFF 1:geo:14.510552,51.365
 487
GEO:14.510552;51.365487
SUMMARY:Töpferkurs für Kinder
CLASS:PUBLIC
DESCRIPTION:Ton - Abenteuer:\n\nTöpferkurs für Kids!\n\nWerde zum Ton-Kü
 nstler und lass deiner Fantasie freien Lauf!\n\nKontakt:\n\nUhyster Heimat
 verein e.V.\nKirsten Knobloch\nHauptstraße 20 A\n02943 Boxberg OL\nTelefo
 n: +49 171 3157205\nEmail: heimatverein@uhyst.de\nWebseite: https://uhyst.
 de/\n\nWeitere Informationen zur Veranstaltung: http://test.reiseregion-fl
 aeming.de/veranstaltung/lausitzer-seenland/toepferkurs-fuer-kinder
CATEGORIES:Workshop / Seminar
DTSTAMP:20260421T122122Z
END:VEVENT
END:VCALENDAR