BEGIN:VCALENDAR
VERSION:2.0
PRODID:test.reiseregion-flaeming.de
BEGIN:VEVENT
UID:69e7571e3a171
DTSTART:20260518T140000Z
SEQUENCE:0
TRANSP:OPAQUE
DTEND:20260518T163000Z
URL:http://test.reiseregion-flaeming.de/veranstaltung/lausitzer-seenland/ha
 ekeln-stricken-und-co
LOCATION:TREFF 1\, Schloßstraße  1\, 02943 Boxberg OL
X-APPLE-STRUCTURED-LOCATION;VALUE=URI;X-ADDRESS="TREFF 1, Schloßstraße  1
 , 02943 Boxberg OL";X-APPLE-RADIUS=49;X-TITLE=TREFF 1:geo:14.510552,51.365
 487
GEO:14.510552;51.365487
SUMMARY:Häkeln\, Stricken & Co
CLASS:PUBLIC
DESCRIPTION:Wenn Sie Zeit und Lust haben\, ihre Freizeit in einer gesellige
 n Runde sinnvoll und entspannt zu gestalten\, bieten Stricken\, Häkeln un
 d andere handwerkliche Tätigkeiten entspannende und kreative Beschäftigu
 ngen.  \n  \nBeim Stricken entstehen warme Kleidungsstücke wie Pullover\,
  Schals und Mützen\, während beim Häkeln zarte Accessoires\, Amigurumi 
 und dekorative Deko-Elemente entstehen. Beide Techniken fördern Geduld\, 
 Feinmotorik und Konzentration – man kann Fortschritte sichtbar machen un
 d am Ende etwas Tragbares oder Nützliches in den Händen halten.\n\nKonta
 kt:\n\nUhyster Heimatverein e.V.\nRenate Kasimir\nHauptstraße 20 A\n02943
  Boxberg OL\nTelefon: +49 171 3157205\nEmail: heimatverein@uhyst.de\nWebse
 ite: https://uhyst.de/\n\nWeitere Informationen zur Veranstaltung: http://
 test.reiseregion-flaeming.de/veranstaltung/lausitzer-seenland/haekeln-stri
 cken-und-co
CATEGORIES:Workshop / Seminar
DTSTAMP:20260421T105318Z
END:VEVENT
END:VCALENDAR