BEGIN:VCALENDAR
VERSION:2.0
PRODID:test.reiseregion-flaeming.de
BEGIN:VEVENT
UID:69e74e9e651c9
DTSTART:20260704T080000Z
SEQUENCE:0
TRANSP:OPAQUE
DTEND:20260704T170000Z
URL:http://test.reiseregion-flaeming.de/veranstaltung/elbe-elster-land/natu
 rparkfest
LOCATION:Zeischa\, Dorfstraße 20\, 04924 Bad Liebenwerda
X-APPLE-STRUCTURED-LOCATION;VALUE=URI;X-ADDRESS="Zeischa, Dorfstraße 20, 0
 4924 Bad Liebenwerda";X-APPLE-RADIUS=49;X-TITLE=Zeischa:geo:13.424452,51.4
 97766
GEO:13.424452;51.497766
SUMMARY:Naturparkfest
CLASS:PUBLIC
DESCRIPTION:Zeischa ist erstmalig Gastgeber des Naturparkfestes. Gemeinsam 
 mit dem Naturpark Niederlausitzer Heidelandschaft organisieren die Einwohn
 er ein buntes Programm mit Musik\, einem Regionalmarkt und weiteren Höhep
 unkten. Die Auszeichnung der Naturparkgemeinde 2026 ist einer davon. Aus d
 ie Ausstellung und Prämierung des Fotowettbewerbs zum Thema \"30 Jahre Na
 turpark - auf Spurensuche\" wird mit Spannung erwartet.\n\nKontakt:\n\nNat
 urpark Niederlausitzer Heidelandschaft\nMarkt 20\n04924 Bad Liebenwerda\nT
 elefon: +49 035341 615-0\nEmail: np-niederlausitzer-heidelandschaft@lfu.br
 andendurg.de\nWebseite: https://niederlausitzer-heidelandschaft-naturpark.
 de\n\nWeitere Informationen zur Veranstaltung: http://test.reiseregion-fla
 eming.de/veranstaltung/elbe-elster-land/naturparkfest
CATEGORIES:Fest / Brauchtum,Essen und Trinken,Markt,Kinder und Jugendliche
DTSTAMP:20260421T101702Z
END:VEVENT
END:VCALENDAR