BEGIN:VCALENDAR
VERSION:2.0
PRODID:test.reiseregion-flaeming.de
BEGIN:VEVENT
UID:69e76a61d6600
DTSTART:20261024T170000Z
SEQUENCE:0
TRANSP:OPAQUE
DTEND:20261024T200000Z
URL:http://test.reiseregion-flaeming.de/veranstaltung/barnimer-land/die-sch
 waerzefuesse-auf-der-riesa
LOCATION:Bugsalon des Seitenraddampfers RIESA am Binnenschifffahrts-Museum 
 Oderberg\, Hermann-Seidel-Straße 44\, 16248 Oderberg
X-APPLE-STRUCTURED-LOCATION;VALUE=URI;X-ADDRESS="Bugsalon des Seitenraddamp
 fers RIESA am Binnenschifffahrts-Museum Oderberg, Hermann-Seidel-Straße 4
 4, 16248 Oderberg";X-APPLE-RADIUS=49;X-TITLE=Bugsalon des Seitenraddampfer
 s RIESA am Binnenschifffahrts-Museum Oderberg:geo:14.046136,52.863249
GEO:14.046136;52.863249
SUMMARY:Die Schwärzefüße auf der RIESA
CLASS:PUBLIC
DESCRIPTION:Im Bugsalon heißt es wieder Bühne frei für die Comedy Blues 
 Band Schwärzefüße\, die bereits mehrfach auf der RIESA zu Gast war. Mit
  ihrer Mischung aus Humor\, Wortwitz und handgemachtem Blues bringen sie d
 as Publikum zum Schmunzeln und Mitswingen. Satirische Texte treffen auf gr
 oovige Rhythmen und sorgen für einen unterhaltsamen Abend in entspannter 
 Atmosphäre. \n\nDazu werden Schmalzstullen angeboten und verschiedene kal
 te Getränke serviert.\n\nKontakt:\n\nBinnenschifffahrts-Museum Oderberg\n
 Hermann-Seidel-Straße 44\n16248 Oderberg\nTelefon: +49 33369 539321\nEmai
 l: museum.oderberg@freenet.de\nWebseite: https://www.bs-museum-oderberg.de
 /\n\nWeitere Informationen zur Veranstaltung: http://test.reiseregion-flae
 ming.de/veranstaltung/barnimer-land/die-schwaerzefuesse-auf-der-riesa
CATEGORIES:Rock / Pop / Jazz,Essen und Trinken
DTSTAMP:20260421T121529Z
END:VEVENT
END:VCALENDAR