BEGIN:VCALENDAR
VERSION:2.0
PRODID:test.reiseregion-flaeming.de
BEGIN:VEVENT
UID:69e8adb64ce11
DTSTART:20260905T150000Z
SEQUENCE:0
TRANSP:OPAQUE
DTEND:20260905T170000Z
URL:http://test.reiseregion-flaeming.de/veranstaltung/havelland/musik-ohne-
 grenzen-barock-folk-und-tangos-bei-albert-einstein
LOCATION:Garten des Einsteinhauses\, Am Waldrand 17\, 14548 Schwielowsee
X-APPLE-STRUCTURED-LOCATION;VALUE=URI;X-ADDRESS="Garten des Einsteinhauses,
  Am Waldrand 17, 14548 Schwielowsee";X-APPLE-RADIUS=49;X-TITLE=Garten des 
 Einsteinhauses:geo:13.014042,52.350042
GEO:13.014042;52.350042
SUMMARY:Musik ohne Grenzen: Barock\, Folk und Tangos bei Albert Einstein
CLASS:PUBLIC
DESCRIPTION:Zwei Musiker aus zwei Ländern\, die gemeinsam Kurioses erkunde
 n und eine grenzenlose\, virtuose Entdeckungsreise durch Stile und Epochen
  der Musikgeschichte unternehmen. Tin Whistle Musik aus Irland und Schottl
 and neben \"echter\" Blocklötenmusik\, Tangos aus Lateinamerika und Renai
 ssancetänze\, Musik für Spazierflöte neben Frühbarock\, mitreißende S
 pielfreude und Schönheit des Klangs.\n\n \n\n**Duo concertant**\n\nKathar
 ina Glös (Blockflöten)\n\nMarek Stawniak (Akkordeon)\n\nKontakt:\n\nCapu
 ther Musiken\nStraße der Einheit  3\n14548 Schwielowsee\nTelefon: +49  17
 6 50047015\nEmail: info@caputher-musiken.de\nWebseite: https://caputhermus
 iken.de/\n\nWeitere Informationen zur Veranstaltung: http://test.reiseregi
 on-flaeming.de/veranstaltung/havelland/musik-ohne-grenzen-barock-folk-und-
 tangos-bei-albert-einstein
CATEGORIES:Klassisches Konzert / Oper
DTSTAMP:20260422T111502Z
END:VEVENT
END:VCALENDAR