BEGIN:VCALENDAR
VERSION:2.0
PRODID:test.reiseregion-flaeming.de
BEGIN:VEVENT
UID:69e759fcb8f06
DTSTART:20261031T080000Z
SEQUENCE:0
TRANSP:OPAQUE
DTEND:20261031T160000Z
URL:http://test.reiseregion-flaeming.de/veranstaltung/seenland-oder-spree/f
 otokurs-indian-summer-herbst-und-landschaft-zwischen-oderberg-und-parstein
LOCATION:Galerie im Oderbruch\, Poststraße  12\, 15324 Letschin (Seenland 
 Oder-Spree)
X-APPLE-STRUCTURED-LOCATION;VALUE=URI;X-ADDRESS="Galerie im Oderbruch, Post
 straße  12, 15324 Letschin (Seenland Oder-Spree)";X-APPLE-RADIUS=49;X-TIT
 LE=Galerie im Oderbruch:geo:14.404561,52.700838
GEO:14.404561;52.700838
SUMMARY:Fotokurs: Indian Summer- Herbst und Landschaft zwischen Oderberg un
 d Parstein
CLASS:PUBLIC
DESCRIPTION:Wir unternehmen nach/vor dem Frühstück am Sonnabend und Sonnt
 ag Touren zu Orten\,\n\ndie interessante Motive versprechen: Einen wunderb
 aren Indian Summer am Parsteiner See.\n\nUnd wir fotografieren in einem Wa
 ld mit Motiv Vielfalt\, mit den größten zusammenhängenden\n\namerikanis
 chen Laubholzbeständen in Brandenburg\, über 100- jährigen Roteichen\, 
 Weißeschen-\n\nund Hickorys. Nach dem Fotografieren schauen wir die Arbei
 ten gemeinsam an und Sie erhalten\n\neine Bildanalyse und viele Hinweise. 
 Anreise und Einführung am 30.10.2026\, am Abend\n\nHotelzimmer in Oderber
 g sind reserviert und können individuell gebucht werden.\n\nKontakt:\n\nS
 tefan Hessheimer\nPoststraße 12\n15324 Letschin (Seenland Oder-Spree)\nTe
 lefon: +49 33478 4541\nEmail: info@fotokurse-im-oderbruch.de\n\nWeitere In
 formationen zur Veranstaltung: http://test.reiseregion-flaeming.de/veranst
 altung/seenland-oder-spree/fotokurs-indian-summer-herbst-und-landschaft-zw
 ischen-oderberg-und-parstein
CATEGORIES:Workshop / Seminar
DTSTAMP:20260421T110534Z
END:VEVENT
BEGIN:VEVENT
UID:69e759fce0e95
DTSTART:20261101T080000Z
SEQUENCE:0
TRANSP:OPAQUE
DTEND:20261101T160000Z
URL:http://test.reiseregion-flaeming.de/veranstaltung/seenland-oder-spree/f
 otokurs-indian-summer-herbst-und-landschaft-zwischen-oderberg-und-parstein
LOCATION:Galerie im Oderbruch\, Poststraße  12\, 15324 Letschin (Seenland 
 Oder-Spree)
X-APPLE-STRUCTURED-LOCATION;VALUE=URI;X-ADDRESS="Galerie im Oderbruch, Post
 straße  12, 15324 Letschin (Seenland Oder-Spree)";X-APPLE-RADIUS=49;X-TIT
 LE=Galerie im Oderbruch:geo:14.404561,52.700838
GEO:14.404561;52.700838
SUMMARY:Fotokurs: Indian Summer- Herbst und Landschaft zwischen Oderberg un
 d Parstein
CLASS:PUBLIC
DESCRIPTION:Wir unternehmen nach/vor dem Frühstück am Sonnabend und Sonnt
 ag Touren zu Orten\,\n\ndie interessante Motive versprechen: Einen wunderb
 aren Indian Summer am Parsteiner See.\n\nUnd wir fotografieren in einem Wa
 ld mit Motiv Vielfalt\, mit den größten zusammenhängenden\n\namerikanis
 chen Laubholzbeständen in Brandenburg\, über 100- jährigen Roteichen\, 
 Weißeschen-\n\nund Hickorys. Nach dem Fotografieren schauen wir die Arbei
 ten gemeinsam an und Sie erhalten\n\neine Bildanalyse und viele Hinweise. 
 Anreise und Einführung am 30.10.2026\, am Abend\n\nHotelzimmer in Oderber
 g sind reserviert und können individuell gebucht werden.\n\nKontakt:\n\nS
 tefan Hessheimer\nPoststraße 12\n15324 Letschin (Seenland Oder-Spree)\nTe
 lefon: +49 33478 4541\nEmail: info@fotokurse-im-oderbruch.de\n\nWeitere In
 formationen zur Veranstaltung: http://test.reiseregion-flaeming.de/veranst
 altung/seenland-oder-spree/fotokurs-indian-summer-herbst-und-landschaft-zw
 ischen-oderberg-und-parstein
CATEGORIES:Workshop / Seminar
DTSTAMP:20260421T110534Z
END:VEVENT
END:VCALENDAR