BEGIN:VCALENDAR
VERSION:2.0
PRODID:test.reiseregion-flaeming.de
BEGIN:VEVENT
UID:69e7bf0893d18
DTSTART:20260509T070000Z
SEQUENCE:0
TRANSP:OPAQUE
DTEND:20260509T150000Z
URL:http://test.reiseregion-flaeming.de/veranstaltung/lausitzer-seenland/48
 -kakteenausstellung-in-spremberg
LOCATION:Hotel Georgenberg\, Slamener Höhe 19\, 03130 Spremberg
X-APPLE-STRUCTURED-LOCATION;VALUE=URI;X-ADDRESS="Hotel Georgenberg, Slamene
 r Höhe 19, 03130 Spremberg";X-APPLE-RADIUS=49;X-TITLE=Hotel Georgenberg:g
 eo:14.393100,51.573060
GEO:14.393100;51.573060
SUMMARY:48. Kakteenausstellung in Spremberg
CLASS:PUBLIC
DESCRIPTION:Die Kakteenausstellung lädt Besucherinnen und Besucher ein\, i
 n die faszinierende Welt der Kakteen und Sukkulenten einzutauchen. Gezeigt
  wird eine große Vielfalt außergewöhnlicher Pflanzen. Von bekannten Kla
 ssikern bis hin zu seltenen und besonders beeindruckenden Exemplaren. Die 
 Ausstellung richtet sich sowohl an passionierte Kakteenliebhaber als auch 
 an Neugierige\, die diese besonderen Gewächse näher kennenlernen möchte
 n. Fachkundige Aussteller stehen für Gespräche\, Erfahrungsaustausch und
  Tipps zur Pflege zur Verfügung. Die Veranstaltung bietet damit nicht nur
  einen ästhetischen Genuss\, sondern auch spannende Einblicke in die Viel
 falt\, Anpassungsfähigkeit und Schönheit dieser einzigartigen Pflanzenwe
 lt. Ein lohnendes Erlebnis für die ganze Familie und alle\, die sich für
  Natur und Pflanzen begeistern.\n\nKontakt:\n\nRestaurant & Hotel Georgenb
 erg\nSlamener Höhe  19\n03130 Spremberg\nTelefon: +49 3563 34250\nEmail: 
 \nWebseite: https://www.hotel-georgenberg.de/\n\nWeitere Informationen zur
  Veranstaltung: http://test.reiseregion-flaeming.de/veranstaltung/lausitze
 r-seenland/48-kakteenausstellung-in-spremberg
CATEGORIES:Ausstellung
DTSTAMP:20260421T181640Z
END:VEVENT
BEGIN:VEVENT
UID:69e7bf08958cc
DTSTART:20260510T070000Z
SEQUENCE:0
TRANSP:OPAQUE
DTEND:20260510T150000Z
URL:http://test.reiseregion-flaeming.de/veranstaltung/lausitzer-seenland/48
 -kakteenausstellung-in-spremberg
LOCATION:Hotel Georgenberg\, Slamener Höhe 19\, 03130 Spremberg
X-APPLE-STRUCTURED-LOCATION;VALUE=URI;X-ADDRESS="Hotel Georgenberg, Slamene
 r Höhe 19, 03130 Spremberg";X-APPLE-RADIUS=49;X-TITLE=Hotel Georgenberg:g
 eo:14.393100,51.573060
GEO:14.393100;51.573060
SUMMARY:48. Kakteenausstellung in Spremberg
CLASS:PUBLIC
DESCRIPTION:Die Kakteenausstellung lädt Besucherinnen und Besucher ein\, i
 n die faszinierende Welt der Kakteen und Sukkulenten einzutauchen. Gezeigt
  wird eine große Vielfalt außergewöhnlicher Pflanzen. Von bekannten Kla
 ssikern bis hin zu seltenen und besonders beeindruckenden Exemplaren. Die 
 Ausstellung richtet sich sowohl an passionierte Kakteenliebhaber als auch 
 an Neugierige\, die diese besonderen Gewächse näher kennenlernen möchte
 n. Fachkundige Aussteller stehen für Gespräche\, Erfahrungsaustausch und
  Tipps zur Pflege zur Verfügung. Die Veranstaltung bietet damit nicht nur
  einen ästhetischen Genuss\, sondern auch spannende Einblicke in die Viel
 falt\, Anpassungsfähigkeit und Schönheit dieser einzigartigen Pflanzenwe
 lt. Ein lohnendes Erlebnis für die ganze Familie und alle\, die sich für
  Natur und Pflanzen begeistern.\n\nKontakt:\n\nRestaurant & Hotel Georgenb
 erg\nSlamener Höhe  19\n03130 Spremberg\nTelefon: +49 3563 34250\nEmail: 
 \nWebseite: https://www.hotel-georgenberg.de/\n\nWeitere Informationen zur
  Veranstaltung: http://test.reiseregion-flaeming.de/veranstaltung/lausitze
 r-seenland/48-kakteenausstellung-in-spremberg
CATEGORIES:Ausstellung
DTSTAMP:20260421T181640Z
END:VEVENT
END:VCALENDAR