BEGIN:VCALENDAR
VERSION:2.0
PRODID:test.reiseregion-flaeming.de
BEGIN:VEVENT
UID:69e7544bca388
DTSTART:20261205T120000Z
SEQUENCE:0
TRANSP:OPAQUE
DTEND:20261205T200000Z
URL:http://test.reiseregion-flaeming.de/veranstaltung/seenland-oder-spree/2
 4-buckower-weihnachtsmarkt
LOCATION:Buckow (Märkische Schweiz)\, Am Markt 5\, 15377 Buckow (Märkisch
 e Schweiz)
X-APPLE-STRUCTURED-LOCATION;VALUE=URI;X-ADDRESS="Buckow (Märkische Schweiz
 ), Am Markt 5, 15377 Buckow (Märkische Schweiz)";X-APPLE-RADIUS=49;X-TITL
 E=Buckow (Märkische Schweiz):geo:14.073628,52.568145
GEO:14.073628;52.568145
SUMMARY:24. Buckower Weihnachtsmarkt
CLASS:PUBLIC
DESCRIPTION:Der traditionelle Buckower Weihnachtsmarkt findet wie gewohnt a
 uf dem Mühlenplatz unter der Weide und in der Königstraße statt. Weiter
 e Informationen folgen nach Veröffentlichung.  \n  \nVerantwortlich: Stad
 t Buckow (Märkische Schweiz)\, vertreten durch Steffen Zeller\, Tel.: 033
 433 150035 oder veranstaltungen.buckow@amt-maerkische-schweiz.de\n\nKontak
 t:\n\nAmt Märkische Schweiz / Kultur- und Tourismusamt\nSebastian-Kneipp-
 Weg 1\n15377 Buckow (Märkische Schweiz) (Fachwerkhaus)\nTelefon: +49 3343
 3 150030\nEmail: touristinfo@amt-maerkische-schweiz.de\n\nWeitere Informat
 ionen zur Veranstaltung: http://test.reiseregion-flaeming.de/veranstaltung
 /seenland-oder-spree/24-buckower-weihnachtsmarkt
CATEGORIES:Essen und Trinken,Weihnachtsmarkt
DTSTAMP:20260421T104116Z
END:VEVENT
BEGIN:VEVENT
UID:69e7544c60306
DTSTART:20261206T120000Z
SEQUENCE:0
TRANSP:OPAQUE
DTEND:20261206T170000Z
URL:http://test.reiseregion-flaeming.de/veranstaltung/seenland-oder-spree/2
 4-buckower-weihnachtsmarkt
LOCATION:Buckow (Märkische Schweiz)\, Am Markt 5\, 15377 Buckow (Märkisch
 e Schweiz)
X-APPLE-STRUCTURED-LOCATION;VALUE=URI;X-ADDRESS="Buckow (Märkische Schweiz
 ), Am Markt 5, 15377 Buckow (Märkische Schweiz)";X-APPLE-RADIUS=49;X-TITL
 E=Buckow (Märkische Schweiz):geo:14.073628,52.568145
GEO:14.073628;52.568145
SUMMARY:24. Buckower Weihnachtsmarkt
CLASS:PUBLIC
DESCRIPTION:Der traditionelle Buckower Weihnachtsmarkt findet wie gewohnt a
 uf dem Mühlenplatz unter der Weide und in der Königstraße statt. Weiter
 e Informationen folgen nach Veröffentlichung.  \n  \nVerantwortlich: Stad
 t Buckow (Märkische Schweiz)\, vertreten durch Steffen Zeller\, Tel.: 033
 433 150035 oder veranstaltungen.buckow@amt-maerkische-schweiz.de\n\nKontak
 t:\n\nAmt Märkische Schweiz / Kultur- und Tourismusamt\nSebastian-Kneipp-
 Weg 1\n15377 Buckow (Märkische Schweiz) (Fachwerkhaus)\nTelefon: +49 3343
 3 150030\nEmail: touristinfo@amt-maerkische-schweiz.de\n\nWeitere Informat
 ionen zur Veranstaltung: http://test.reiseregion-flaeming.de/veranstaltung
 /seenland-oder-spree/24-buckower-weihnachtsmarkt
CATEGORIES:Essen und Trinken,Weihnachtsmarkt
DTSTAMP:20260421T104116Z
END:VEVENT
END:VCALENDAR