BEGIN:VCALENDAR
VERSION:2.0
PRODID:test.reiseregion-flaeming.de
BEGIN:VEVENT
UID:69e89eb2f0c00
DTSTART:20260830T082500Z
SEQUENCE:0
TRANSP:OPAQUE
DTEND:20260830T135500Z
URL:http://test.reiseregion-flaeming.de/veranstaltung/spreewald/66-seen-wan
 derung-von-halbe-nach-wuensdorf
LOCATION:Bushaltestelle Hohenbrück\, Alte Hauptstraße\, 15913 Hohenbrück
X-APPLE-STRUCTURED-LOCATION;VALUE=URI;X-ADDRESS="Bushaltestelle Hohenbrück
 , Alte Hauptstraße, 15913 Hohenbrück";X-APPLE-RADIUS=49;X-TITLE=Bushalte
 stelle Hohenbrück:geo:13.904301,52.095915
GEO:13.904301;52.095915
SUMMARY:66-Seen-Wanderung - von Halbe nach Wünsdorf
CLASS:PUBLIC
DESCRIPTION:Streckenverlauf:  \nBahnhof Halbe - heidesee - Krabbes Loch - N
 ikolassee - Tietschensee - Tornow - Tornower See - Teupitzer See - Egsdorf
  - Zesch am See - Kleiner Zeschsee - Wolziger See -  Wünsdorfer See -  Ba
 hnhof Wünsdorf\n\nLänge: 29 Km\n\nHinweise: Rucksackverpflegung mitbring
 en\, Einkehr möglich\, Anmeldung beim Wanderleiter bis 04.09.2026\n\nKont
 akt:\n\nHans-Rosenthal-Haus\, Raum 3\nVolkmar Schmidt\nBolchener Straße 5
 \n14167 Berlin\nTelefon: +49 30 80617481\nEmail: v.schmidt@berliner-wander
 club.de\n\nWeitere Informationen zur Veranstaltung: http://test.reiseregio
 n-flaeming.de/veranstaltung/spreewald/66-seen-wanderung-von-halbe-nach-wue
 nsdorf
CATEGORIES:Exkursion / Wanderung
DTSTAMP:20260422T101058Z
END:VEVENT
END:VCALENDAR