BEGIN:VCALENDAR
VERSION:2.0
PRODID:test.reiseregion-flaeming.de
BEGIN:VEVENT
UID:69e8adb6abcb7
DTSTART:20260423T170000Z
SEQUENCE:0
TRANSP:OPAQUE
DTEND:20260423T190000Z
URL:http://test.reiseregion-flaeming.de/veranstaltung/uckermark/altersperle
 n-buchlesung-mit-ilse-fischer
LOCATION:Museum Angermünde - Haus Uckermark\, Hoher Steinweg 17/18\, 16278
  Angermünde
X-APPLE-STRUCTURED-LOCATION;VALUE=URI;X-ADDRESS="Museum Angermünde - Haus 
 Uckermark, Hoher Steinweg 17/18, 16278 Angermünde";X-APPLE-RADIUS=49;X-TI
 TLE=Museum Angermünde - Haus Uckermark:geo:14.003352,53.018294
GEO:14.003352;53.018294
SUMMARY:\"Altersperlen“ Buchlesung mit Ilse Fischer
CLASS:PUBLIC
DESCRIPTION:In „Altersperlen“ erzählt die Autorin Ilse Fischer\, Jahrg
 ang 1942\, aus ihrem bewegten Leben.  \n  \nIn Gedichten und Prosa\, leben
 sbejahend und mit viel Humor\, werden die kleinen und großen Ereignisse e
 ines langen\, weisen Lebens poetisch verarbeitet.\n\nMusik: Ulrike Fritz u
 nd Hendrikje Wenzlaff\n\nKontakt:\n\nUckermärkische Literaturgesellschaft
  e.V.\nGerlind Mittelstädt\nHoher Steinweg 17/18\n16278 Angermünde\nTele
 fon: +49 152/31644799\nEmail: info@uckermaerkische-literaturgesellschaft.d
 e\nWebseite: https://uckermaerkische-literaturgesellschaft.de\n\nWeitere I
 nformationen zur Veranstaltung: http://test.reiseregion-flaeming.de/verans
 taltung/uckermark/altersperlen-buchlesung-mit-ilse-fischer
CATEGORIES:Lesung / Vortrag
DTSTAMP:20260422T111502Z
END:VEVENT
END:VCALENDAR