BEGIN:VCALENDAR
VERSION:2.0
PRODID:test.reiseregion-flaeming.de
BEGIN:VEVENT
UID:69e7542303eef
DTSTART:20260521T120000Z
SEQUENCE:0
TRANSP:OPAQUE
DTEND:20260521T140000Z
URL:http://test.reiseregion-flaeming.de/veranstaltung/lausitzer-seenland/we
 lttag-der-kulturen-im-musikus
LOCATION:Fröbel Kindergarten Musikus\, Reyersbachstarße 20\, 01968 Senfte
 nberg
X-APPLE-STRUCTURED-LOCATION;VALUE=URI;X-ADDRESS="Fröbel Kindergarten Musik
 us, Reyersbachstarße 20, 01968 Senftenberg";X-APPLE-RADIUS=49;X-TITLE=Fr
 öbel Kindergarten Musikus:geo:14.000587,51.520738
GEO:14.000587;51.520738
SUMMARY:Welttag der Kulturen im Musikus
CLASS:PUBLIC
DESCRIPTION:Erleben Sie den Welttag der Kulturen im Kindergarten Musikus\n\
 n  * Essen aus verschiedenen Ländern probieren\n  * Kleidung und Bücher 
 bestaunen\n  * einfache Kinderspiele ausprobieren\n  * mit verschieden Men
 schen in den Austausch gehen\n\nKontakt:\n\nFröbel Bildung und Erziehung 
 GmbH\nHörlitzer Straße 34\n01968 Senftenberg\nTelefon: +49 03573 662280\
 nEmail: efb-senftenberg@froebel-gruppe.de\nWebseite: https://efb-senftenbe
 rg.froebel.info\n\nWeitere Informationen zur Veranstaltung: http://test.re
 iseregion-flaeming.de/veranstaltung/lausitzer-seenland/welttag-der-kulture
 n-im-musikus
CATEGORIES:Kinder und Jugendliche,Führung / Besichtigung
DTSTAMP:20260421T104035Z
END:VEVENT
END:VCALENDAR