BEGIN:VCALENDAR
VERSION:2.0
PRODID:test.reiseregion-flaeming.de
BEGIN:VEVENT
UID:69e7a783cf30c
DTSTART:20260506T110000Z
SEQUENCE:0
TRANSP:OPAQUE
DTEND:20260506T130000Z
URL:http://test.reiseregion-flaeming.de/veranstaltung/berlin/wanderung-entl
 ang-der-wannseepromenade-vom-faehranleger-pfaueninsel-bis-zur-gedenkstaett
 e-haus-der-wannseekonferenz-und-zurueck-durch-den-wald
LOCATION:Parkplatz Nikolskoer Weg\, Nikolskoer Weg  25\, 14109 Berlin
X-APPLE-STRUCTURED-LOCATION;VALUE=URI;X-ADDRESS="Parkplatz Nikolskoer Weg, 
 Nikolskoer Weg  25, 14109 Berlin";X-APPLE-RADIUS=49;X-TITLE=Parkplatz Niko
 lskoer Weg:geo:13.122447,52.427437
GEO:13.122447;52.427437
SUMMARY:Wanderung entlang der Wannseepromenade vom Fähranleger Pfaueninsel
  bis zur Gedenkstätte „Haus der Wannseekonferenz“ und zurück durch d
 en Wald
CLASS:PUBLIC
DESCRIPTION:Der Heimatverein Caputh e.V. organisiert jeden 1. Mittwoch im M
 onat Wanderungen in die märkische Heimat. Dazu sind alle\, die Freude an 
 einer 6 bis 10 Kilometer langen Wanderstrecke haben\, herzlich eingeladen.
 \n\nKontakt:\n\nCaputher Heimatverein e.V.\nFeldstraße 21\n14548 Schwielo
 wsee\nTelefon: +49 033209 70260\nEmail: info@heimatvereincaputh.de\nWebsei
 te: https://www.heimatvereincaputh.de/\n\nWeitere Informationen zur Verans
 taltung: http://test.reiseregion-flaeming.de/veranstaltung/berlin/wanderun
 g-entlang-der-wannseepromenade-vom-faehranleger-pfaueninsel-bis-zur-gedenk
 staette-haus-der-wannseekonferenz-und-zurueck-durch-den-wald
CATEGORIES:Exkursion / Wanderung
DTSTAMP:20260421T163619Z
END:VEVENT
END:VCALENDAR