BEGIN:VCALENDAR
VERSION:2.0
PRODID:test.reiseregion-flaeming.de
BEGIN:VEVENT
UID:69e7885375f32
DTSTART:20261217T180000Z
SEQUENCE:0
TRANSP:OPAQUE
DTEND:20261217T203000Z
URL:http://test.reiseregion-flaeming.de/veranstaltung/seenland-oder-spree/o
 stdorf-defa-filmsalon-die-besten-jahre-1965
LOCATION:Schloss Trebnitz\, Platz der Jugend 6\, 15374 Müncheberg
X-APPLE-STRUCTURED-LOCATION;VALUE=URI;X-ADDRESS="Schloss Trebnitz, Platz de
 r Jugend 6, 15374 Müncheberg";X-APPLE-RADIUS=49;X-TITLE=Schloss Trebnitz:
 geo:14.219093,52.531701
GEO:14.219093;52.531701
SUMMARY:OSTDORF | DEFA-Filmsalon: Die besten Jahre (1965)
CLASS:PUBLIC
DESCRIPTION:Die junge DDR nach dem Zweiten Weltkrieg. Ernst Machner\, Mitte
  Zwanzig\, kehrt aus der Kriegsgefangenschaft heim. Alles scheint trostlos
 . Doch bald ergeben sich für ihn mit dem Wiederaufbau des Landes ungeahnt
 e Chancen. Machner nutzt sie. Muss dabei jedoch erkennen\, dass dies oftma
 ls nur unter Abstrichen am persönlichen Glück gelingt.\n\nRegie: Günthe
 r Rücker  \nDrehbuch: Günther Rücker\, Peter Krause  \nmit Horst Drinda
 \, Lissy Tempelhof\, Harry Hindemith\, Rolf Hoppe uvm.\n\nEinführung und 
 Gespräch: Klaus-Dieter Felsmann\n\nUnkostenbeitrag: 5 Euro\n\nAnmeldung e
 rwünscht unter: empfang@schloss-trebnitz.de\n\nEine Filmvorführung im Ra
 hmen der Reihe OSTDORF | DEFA-Filmsalon über Lebensumbrüche und Alltag i
 n der DDR.\n\n_(Bildnachweis: ©DEFA-Stiftung/Eberhard Dassdorf)_\n\nKonta
 kt:\n\nSchloß Trebnitz - Bildungs- und Begegnungszentrum e.V.\nPlatz der 
 Jugend 6\n15374 Müncheberg\nTelefon: +49 33477 5190\nEmail: empfang@schlo
 ss-trebnitz.de\n\nWeitere Informationen zur Veranstaltung: http://test.rei
 seregion-flaeming.de/veranstaltung/seenland-oder-spree/ostdorf-defa-filmsa
 lon-die-besten-jahre-1965
CATEGORIES:Film
DTSTAMP:20260421T142315Z
END:VEVENT
END:VCALENDAR