BEGIN:VCALENDAR
VERSION:2.0
PRODID:test.reiseregion-flaeming.de
BEGIN:VEVENT
UID:69e79ab9a5fb4
DTSTART:20260614T090000Z
SEQUENCE:0
TRANSP:OPAQUE
DTEND:20260614T160000Z
URL:http://test.reiseregion-flaeming.de/veranstaltung/spreewald/brandenburg
 er-landpartie
LOCATION:Spreeauenhof\, Döbbricker Straße  1\, 03096 Dissen-Striesow
X-APPLE-STRUCTURED-LOCATION;VALUE=URI;X-ADDRESS="Spreeauenhof, Döbbricker 
 Straße  1, 03096 Dissen-Striesow";X-APPLE-RADIUS=49;X-TITLE=Spreeauenhof:
 geo:14.294002,51.826174
GEO:14.294002;51.826174
SUMMARY:Brandenburger Landpartie
CLASS:PUBLIC
DESCRIPTION:Zur diesjährigen **Brandenburger Landpartie** laden das **Natu
 rkundezentrum Spreeaue e.V.** und der **Imkerverein Dissen** herzlich ein.
  Unter dem Motto **„100 Jahre Imkerverein Dissen – Wie kommt der Honig
  ins Glas?“** dreht sich an diesem Tag alles um die faszinierende Welt d
 er Honigbiene.\n\nGäste können live erleben\, wie Honig entsteht: Von de
 r Bestäubungsleistung der Bienen über das Arbeiten im Bienenvolk bis hin
  zur Verarbeitung in der Imkerei. An Schaubeuten\, Honigschleudern und Mit
 machstationen zeigen die Imkerinnen und Imker anschaulich jeden Schritt de
 s Weges – bis der goldene Honig schließlich im Glas landet.\n\nDas Natu
 rkundezentrum ergänzt das Programm mit Einblicken in die ökologische Bed
 eutung der Biene und ihre Rolle im Ökosystem der Spreeaue. Spannende Füh
 rungen\, kindgerechte Angebote und anschauliche Experimente machen den Tag
  zu einem Erlebnis für die ganze Familie.\n\nZum Jubiläum werden zudem G
 eschichten aus 100 Jahren Vereinsgeschichte erzählt – von traditionelle
 n Arbeitsweisen bis zu modernen Methoden der Imkerei.\n\n**Ein informative
 r und erlebnisreicher Tag für alle Naturfreundinnen\, Naturfreunde und Ho
 nigliebhaber. Wir freuen uns auf Ihren Besuch!**\n\nKontakt:\n\nAnsprechpa
 rtner Fred Kaiser\n\n03096 Dissen-Striesow\nTelefon: +49 179 5344880\nEmai
 l: verein@spreeaue.de\nWebseite: https://www.spreeaue.eu/\n\nWeitere Infor
 mationen zur Veranstaltung: http://test.reiseregion-flaeming.de/veranstalt
 ung/spreewald/brandenburger-landpartie
CATEGORIES:Führung / Besichtigung
DTSTAMP:20260421T154145Z
END:VEVENT
END:VCALENDAR