BEGIN:VCALENDAR
VERSION:2.0
PRODID:test.reiseregion-flaeming.de
BEGIN:VEVENT
UID:69e4c4d1df343
DTSTART:20261010T150000Z
SEQUENCE:0
TRANSP:OPAQUE
DTEND:20261010T170000Z
URL:http://test.reiseregion-flaeming.de/veranstaltung/elbe-elster-land/konz
 ert-herbstklaenge-mit-blech-und-tasten
LOCATION:Nikolai-Kirche Bad Liebenwerda\, Markt\, 04924 Bad Liebenwerda
X-APPLE-STRUCTURED-LOCATION;VALUE=URI;X-ADDRESS="Nikolai-Kirche Bad Liebenw
 erda, Markt, 04924 Bad Liebenwerda";X-APPLE-RADIUS=49;X-TITLE=Nikolai-Kirc
 he Bad Liebenwerda:geo:13.402464,51.515295
GEO:13.402464;51.515295
SUMMARY:Konzert Herbstklänge mit Blech und Tasten
CLASS:PUBLIC
DESCRIPTION:Der Posaunenchor der Kirchengemeinde\, Musikschüler und Lehrkr
 äfte der KMKS „Gebrüder Graun“ lassen den Herbst in allen (Klang)-Fa
 rben leuchten!\n\nKontakt:\n\nKirchenkreis Bad Liebenwerda\nDorothea Voigt
 \nMarkt 23\n04924 Bad Liebenwerda\nTelefon: +49 177 3445200\nEmail: doroth
 ea.voigt@ekmd.de\n\nWeitere Informationen zur Veranstaltung: http://test.r
 eiseregion-flaeming.de/veranstaltung/elbe-elster-land/konzert-herbstklaeng
 e-mit-blech-und-tasten
CATEGORIES:Klassisches Konzert / Oper,Chor / Folklore / Volksmusik,Musical
DTSTAMP:20260419T120434Z
END:VEVENT
END:VCALENDAR