BEGIN:VCALENDAR
VERSION:2.0
PRODID:test.reiseregion-flaeming.de
BEGIN:VEVENT
UID:69e7982c8fab8
DTSTART:20260509T170000Z
SEQUENCE:0
TRANSP:OPAQUE
DTEND:20260509T190000Z
URL:http://test.reiseregion-flaeming.de/veranstaltung/elbe-elster-land/gosp
 elkonzert
LOCATION:Nikolai-Kirche Bad Liebenwerda\, Markt\, 04924 Bad Liebenwerda
X-APPLE-STRUCTURED-LOCATION;VALUE=URI;X-ADDRESS="Nikolai-Kirche Bad Liebenw
 erda, Markt, 04924 Bad Liebenwerda";X-APPLE-RADIUS=49;X-TITLE=Nikolai-Kirc
 he Bad Liebenwerda:geo:13.402464,51.515295
GEO:13.402464;51.515295
SUMMARY:GospelKonzert
CLASS:PUBLIC
DESCRIPTION:Abwechslungsreiche Gospels und Popsongs laden zum Zuhören und 
 Nachsinnen ein - aber natürlich auch zum fröhlichen Feiern! Die Kirche w
 ird stimmungsvoll illuminiert\, einzelne Titel durch Laserlicht besonders 
 in Szene gesetzt.  \nIn bewährter Kooperation singen die Gospelresounds D
 resden Neustadt & Band gemeinsam mit dem dem Gospelchor Bad Liebenwerda un
 ter Leitung von Dorothea und Elke Voigt sowie Henriette Barth\,  \nMarcel 
 Schrenk – Piano  \nMarkus Pötschke – Saxophone  \nDana Leichsenring -
  Drums  \nReinmar Gerber - Bass  \nDr. Markus Voigt und Marlon Hrinatzki 
 – Ton\, Licht und Lasergestaltung\n\nKontakt:\n\nKirchenkreis Bad Lieben
 werda\nDorothea Voigt\nMarkt 23\n04924 Bad Liebenwerda\nTelefon: +49 177 3
 445200\nEmail: dorothea.voigt@ekmd.de\n\nWeitere Informationen zur Veranst
 altung: http://test.reiseregion-flaeming.de/veranstaltung/elbe-elster-land
 /gospelkonzert
CATEGORIES:Klassisches Konzert / Oper
DTSTAMP:20260421T153052Z
END:VEVENT
END:VCALENDAR