BEGIN:VCALENDAR
VERSION:2.0
PRODID:test.reiseregion-flaeming.de
BEGIN:VEVENT
UID:69e78447dde8c
DTSTART:20260531T150000Z
SEQUENCE:0
TRANSP:OPAQUE
DTEND:20260604T110000Z
URL:http://test.reiseregion-flaeming.de/veranstaltung/havelland/pilgern-in-
 der-natur-zu-sich-finden
LOCATION:Marion Werner\, Kleindorf 3\, 14715 Havelaue
X-APPLE-STRUCTURED-LOCATION;VALUE=URI;X-ADDRESS="Marion Werner, Kleindorf 3
 , 14715 Havelaue";X-APPLE-RADIUS=49;X-TITLE=Marion Werner:geo:12.224287,52
 .762457
GEO:12.224287;52.762457
SUMMARY:Pilgern - in der Natur zu sich finden!
CLASS:PUBLIC
DESCRIPTION:Pilgern ist ein Weg\, mithilfe der Natur zu sich selber zu find
 en.\n\nRuhe. Die Natur einatmen. Einen Schritt vor den anderen setzen.\n\n
 Wir wollen einen wertschätzenden und behutsamen Umgang mit allem\, was un
 s umgibt\, erfahren.\n\nIch\, auch Kräuterhexe\, lade ein\, zu einem unbe
 schwerten Aufenthalt in der Natur mit dem Ziel\, in Einklang mit sich selb
 er zu kommen. Dabei räumen wir der Spiritualität genauso viel Raum ein\,
  wie den Pflanzen\, die uns am Wegesrand begleiten.\n\nStrecken : Rund um 
 Strodehne (täglich ca. 10 km)  \nGruppengröße max. 8 Personen  \nAnford
 erungen : etwas Mut und gute Laune \;-))\n\nKontakt:\n\nMarion Werner\nMar
 ion Werner\nKleindorf 3\n14715 Havelaue\nTelefon: +49 33875 90192\nEmail: 
 marion.werner@freenet.de\nWebseite: https://www.marion-werner.de/terminueb
 ersicht.html\n\nWeitere Informationen zur Veranstaltung: http://test.reise
 region-flaeming.de/veranstaltung/havelland/pilgern-in-der-natur-zu-sich-fi
 nden
CATEGORIES:Wellness / Gesundheit,Exkursion / Wanderung
DTSTAMP:20260421T140559Z
END:VEVENT
END:VCALENDAR