BEGIN:VCALENDAR
VERSION:2.0
PRODID:test.reiseregion-flaeming.de
BEGIN:VEVENT
UID:69e7c3285139e
DTSTART;VALUE=DATE:20260626
SEQUENCE:0
TRANSP:OPAQUE
DTEND;VALUE=DATE:20260627
URL:http://test.reiseregion-flaeming.de/veranstaltung/lausitzer-seenland/we
 stbam-und-k-paul
LOCATION:Freilichtbühne Spremberg\, Wiesengasse 1\, 03130 Spremberg
X-APPLE-STRUCTURED-LOCATION;VALUE=URI;X-ADDRESS="Freilichtbühne Spremberg,
  Wiesengasse 1, 03130 Spremberg";X-APPLE-RADIUS=49;X-TITLE=Freilichtbühne
  Spremberg:geo:14.378869,51.571178
GEO:14.378869;51.571178
SUMMARY:Westbam & K-Paul
CLASS:PUBLIC
DESCRIPTION:Westbam\, der Beatboxrocker\, der Terminator\, Gründer der Lov
 e Parade & Mayday kommt am 27.06.26  \nzum ersten Mal auf ein Open Air nac
 h Spremberg und bringt natürlich noch jede Menge weitere Acts  \nmit. Erl
 ebt den Megarave mit WESTBAM und K-PAUL an der frischen Luft von 16 - 22 U
 hr.  \nSAVE THE RAVE!  \nTickets in der Stadt & Tourist Information Spremb
 erg\n\nKontakt:\n\n\n\n \nTelefon: +49 3563 5900656\nEmail: \n\nWeitere In
 formationen zur Veranstaltung: http://test.reiseregion-flaeming.de/veranst
 altung/lausitzer-seenland/westbam-und-k-paul
X-MICROSOFT-CDO-ALLDAYEVENT:TRUE
CATEGORIES:Großveranstaltung
DTSTAMP:20260421T183417Z
END:VEVENT
END:VCALENDAR