BEGIN:VCALENDAR
VERSION:2.0
PRODID:test.reiseregion-flaeming.de
BEGIN:VEVENT
UID:69e7b195c5e14
DTSTART:20260613T173000Z
SEQUENCE:0
TRANSP:OPAQUE
DTEND:20260613T193000Z
URL:http://test.reiseregion-flaeming.de/veranstaltung/lausitzer-seenland/st
 ahlzeit-jubilaeumstour-2026
LOCATION:Freilichtbühne Spremberg\, Wiesengasse 1\, 03130 Spremberg/Grodk 
 (Lausitzer Seenland)
X-APPLE-STRUCTURED-LOCATION;VALUE=URI;X-ADDRESS="Freilichtbühne Spremberg,
  Wiesengasse 1, 03130 Spremberg/Grodk (Lausitzer Seenland)";X-APPLE-RADIUS
 =49;X-TITLE=Freilichtbühne Spremberg:geo:14.378869,51.571178
GEO:14.378869;51.571178
SUMMARY:Stahlzeit Jubiläumstour 2026
CLASS:PUBLIC
DESCRIPTION:Die 20 Jahre STAHLZEIT Jubiläumstour geht 2026 weiter! Erlebt 
 RAMMSTEIN hautnah – nirgendwo sonst pulsiert der Brachial-Herzschlag so 
 intensiv. STAHLZEIT kreiert auf der Bühne neue Dimensionen\, die Grenzen 
 sprengen\, begleitet von kompromissloser Pyrotechnik\, die bis zu den entf
 erntesten Plätzen spürbar ist. Schweiß\, Feuer und pure Energie durchst
 römen die rund zweieinhalbstündige Show.\n\nMit „JUBILÄUMSTOUR 20 PLU
 S“ zollt STAHLZEIT dem Original Tribut und bietet explosive Inszenierung
 en\, fulminante Gesamterlebnisse und Shows der Superlative. Seit 20 Jahren
  reist ein Team aus 30 Personen mit Nightlinern und Trucks durch Europa\, 
 um Fans alte Klassiker und neue Highlights zu präsentieren. Langjährige 
 Anhänger erleben eine konsequente Weiterentwicklung\, neue Zuschauer werd
 en vom gewaltigen Konzert mitgerissen.\n\nSTAHLZEIT – wenn Hitze\, Sound
  und Emotionen zu einer gewaltigen Einheit verschmelzen.\n\nKontakt:\n\nFr
 eilichtbühne Spremberg\nWiesengasse 1\n03130 Spremberg\nTelefon: +49 3563
  5900656\nEmail: \n\nWeitere Informationen zur Veranstaltung: http://test.
 reiseregion-flaeming.de/veranstaltung/lausitzer-seenland/stahlzeit-jubilae
 umstour-2026
CATEGORIES:Großveranstaltung
DTSTAMP:20260421T171917Z
END:VEVENT
END:VCALENDAR